BEGIN:VCALENDAR
VERSION:2.0
PRODID:-//ChamberMaster//Event Calendar 2.0//EN
METHOD:PUBLISH
X-PUBLISHED-TTL:P3D
REFRESH-INTERVAL:P3D
CALSCALE:GREGORIAN
BEGIN:VEVENT
DTSTART:20190128T130000Z
DTEND:20190128T153000Z
X-MICROSOFT-CDO-ALLDAYEVENT:FALSE
SUMMARY:Georgia State University Briefing
DESCRIPTION:By Invitation
X-ALT-DESC;FMTTYPE=text/html:By Invitation&nbsp\;
LOCATION:SEAC
UID:e.3314.198
SEQUENCE:3
DTSTAMP:20260424T000423Z
URL:http://www.connect.amchamthailand.com/events/details/georgia-state-university-briefing-198
END:VEVENT

END:VCALENDAR
