BEGIN:VCALENDAR
VERSION:2.0
PRODID:-//ChamberMaster//Event Calendar 2.0//EN
METHOD:PUBLISH
X-PUBLISHED-TTL:P3D
REFRESH-INTERVAL:P3D
CALSCALE:GREGORIAN
BEGIN:VEVENT
DTSTART:20200422T040000Z
DTEND:20200422T053000Z
X-MICROSOFT-CDO-ALLDAYEVENT:FALSE
SUMMARY:Government Affairs Council: April 2020 Video Conference
DESCRIPTION:The Government Affairs Council will convene on April 22 with the following agenda:\n\n- The Government Affairs and Public Policy Report   April 2020.\n\n- Exchange of views on covid-19 impacts\, and future prospects.\n\n- Other matters.\nAll AMCHAM members are welcome to attend the Government Affairs Council meetings to stay abreast of the policy priorities that AMCHAM advocates for on behalf of members.\n\n\n\nMembership in the AMCHAM Thailand Government Affairs Council is open to managers of government relations and public affairs of AMCHAM Thailand member companies.\nTo continue to receive updates on our advocacy meetings and activities\, or to request to join the Council\, please contact kittie@amchamthailand.com.
X-ALT-DESC;FMTTYPE=text/html:<p>The Government Affairs Council will convene on April 22 with the following agenda:</p>\n\n<p>- The Government Affairs and Public Policy Report &ndash\; April 2020.<br />\n- Exchange of views on covid-19 impacts\, and future prospects.<br />\n- Other matters.</p>\nAll AMCHAM members are welcome to attend the Government Affairs Council meetings to stay abreast of the policy priorities that AMCHAM advocates for on behalf of members.<br />\n<br />\nMembership in the AMCHAM Thailand Government Affairs Council is open to managers of government relations and public affairs of AMCHAM Thailand member companies.\n<p>To continue to receive updates on our advocacy meetings and activities\, or to request to join the Council\, please contact <a>kittie@amchamthailand.com</a>.</p>\n
LOCATION:Online Video Conference
UID:e.3314.1591
SEQUENCE:3
DTSTAMP:20260422T222233Z
URL:http://www.connect.amchamthailand.com/events/details/government-affairs-council-april-2020-video-conference-1591
END:VEVENT

END:VCALENDAR
