BEGIN:VCALENDAR
VERSION:2.0
PRODID:-//ChamberMaster//Event Calendar 2.0//EN
METHOD:PUBLISH
X-PUBLISHED-TTL:P3D
REFRESH-INTERVAL:P3D
CALSCALE:GREGORIAN
BEGIN:VEVENT
DTSTART:20210421T013000Z
DTEND:20210421T030000Z
X-MICROSOFT-CDO-ALLDAYEVENT:FALSE
SUMMARY:Government Affairs Council: April 2021 Video Conference
DESCRIPTION:The Government Affairs Council will convene virtually on April 21 with the following agenda:\n\n\n	The government affairs report of March-April\, including the outcome of:\n	\n		AMCHAM virtual membership meeting and exclusive roundtable with Deputy Prime Minister Anutin Charnvirakul on March 17.\n		Meeting with Director General Lavaron Sangsnit\, Excise Department on March 22.\n		Cabinet reshuffle.\n	\n	\n	Upcoming meetings with the government:\n	\n		Minister of Tourism.\n		Minister of Labor.\n		AMCHAM membership meeting with Immigration Commissioner as keynote speaker.\n		Prime Minister.\n		Minister of Transport.\n	\n	\n	Issues for discussion\n	\n		AMCHAM road safety campaign.\n		AMCHAM letter to MDES regarding PDPA.\n		Ten for Ten   to generate more awareness.\n		Public affairs -  to mobilize broad public support for AMCHAM's advocacy effort.\n		American business competitiveness   an additional KPI.\n	\n	\n	Other matters.\n\n\nAll AMCHAM members are welcome to attend the Government Affairs Council meetings to stay abreast of the policy priorities that AMCHAM advocates for on behalf of members. Advance registration is necessary\, as we do not accept walk-ins or non-member guests for these meetings.\nMembership in the AMCHAM Thailand Government Affairs Council is open to managers of government relations and public affairs of AMCHAM Thailand member companies.\n\n\n\nTo continue to receive updates on our advocacy meetings and activities\, or to request to join the Council\, please contact kittie@amchamthailand.com.
X-ALT-DESC;FMTTYPE=text/html:<p background-color:="" color:="" font-size:="" line-height:="" margin-bottom:="" margin-top:="" open="">The Government Affairs Council will convene virtually on April 21 with the following agenda:</p>\n\n<ul>\n	<li background-color:="" color:="" font-size:="" line-height:="" margin-bottom:="" margin-top:="" open="">The government affairs report of March-April\, including the outcome of:\n	<ul>\n		<li background-color:="" color:="" font-size:="" line-height:="" margin-bottom:="" margin-top:="" open="">AMCHAM virtual membership meeting and exclusive roundtable with Deputy Prime Minister Anutin Charnvirakul on March 17.</li>\n		<li background-color:="" color:="" font-size:="" line-height:="" margin-bottom:="" margin-top:="" open="">Meeting with Director General Lavaron Sangsnit\, Excise Department on March 22.</li>\n		<li background-color:="" color:="" font-size:="" line-height:="" margin-bottom:="" margin-top:="" open="">Cabinet reshuffle.</li>\n	</ul>\n	</li>\n	<li background-color:="" color:="" font-size:="" line-height:="" margin-bottom:="" margin-top:="" open="">Upcoming meetings with the government:\n	<ul>\n		<li background-color:="" color:="" font-size:="" line-height:="" margin-bottom:="" margin-top:="" open="">Minister of Tourism.</li>\n		<li background-color:="" color:="" font-size:="" line-height:="" margin-bottom:="" margin-top:="" open="">Minister of Labor.</li>\n		<li background-color:="" color:="" font-size:="" line-height:="" margin-bottom:="" margin-top:="" open="">AMCHAM membership meeting with Immigration Commissioner as keynote speaker.</li>\n		<li background-color:="" color:="" font-size:="" line-height:="" margin-bottom:="" margin-top:="" open="">Prime Minister.</li>\n		<li background-color:="" color:="" font-size:="" line-height:="" margin-bottom:="" margin-top:="" open="">Minister of Transport.</li>\n	</ul>\n	</li>\n	<li background-color:="" color:="" font-size:="" line-height:="" margin-bottom:="" margin-top:="" open="">Issues for discussion\n	<ul>\n		<li background-color:="" color:="" font-size:="" line-height:="" margin-bottom:="" margin-top:="" open="">AMCHAM road safety campaign.</li>\n		<li background-color:="" color:="" font-size:="" line-height:="" margin-bottom:="" margin-top:="" open="">AMCHAM letter to MDES regarding PDPA.</li>\n		<li background-color:="" color:="" font-size:="" line-height:="" margin-bottom:="" margin-top:="" open="">Ten for Ten &ndash\; to generate more awareness.</li>\n		<li background-color:="" color:="" font-size:="" line-height:="" margin-bottom:="" margin-top:="" open="">Public affairs -&nbsp\; to mobilize broad public support for AMCHAM&rsquo\;s advocacy effort.</li>\n		<li background-color:="" color:="" font-size:="" line-height:="" margin-bottom:="" margin-top:="" open="">American business competitiveness &ndash\; an additional KPI.</li>\n	</ul>\n	</li>\n	<li background-color:="" color:="" font-size:="" line-height:="" margin-bottom:="" margin-top:="" open="">Other matters.</li>\n</ul>\n\n<p background-color:="" color:="" font-size:="" line-height:="" margin-bottom:="" margin-top:="" open="">All AMCHAM members are welcome to attend the Government Affairs Council meetings to stay abreast of the policy priorities that AMCHAM advocates for on behalf of members. Advance registration is necessary\, as we do not accept walk-ins or non-member guests for these meetings.</p>\nMembership in the AMCHAM Thailand Government Affairs Council is open to managers of government relations and public affairs of AMCHAM Thailand member companies.<br background-color:="" color:="" font-size:="" open="" />\n<br background-color:="" color:="" font-size:="" open="" />\nTo continue to receive updates on our advocacy meetings and activities\, or to request to join the Council\, please contact&nbsp\;<a 0.3s="" all="" background-color:="" color:="" ease-in-out="" font-size:="" href="mailto:kittie@amchamthailand.com" open="" overflow-wrap:="" text-decoration-line:="" transition:="">kittie@amchamthailand.com</a>.
LOCATION:Video Conference
UID:e.3314.1888
SEQUENCE:3
DTSTAMP:20260422T010641Z
URL:http://www.connect.amchamthailand.com/events/details/government-affairs-council-april-2021-video-conference-1888
END:VEVENT

END:VCALENDAR
