BEGIN:VCALENDAR
VERSION:2.0
PRODID:-//ChamberMaster//Event Calendar 2.0//EN
METHOD:PUBLISH
X-PUBLISHED-TTL:P3D
REFRESH-INTERVAL:P3D
CALSCALE:GREGORIAN
BEGIN:VEVENT
DTSTART:20200820T020000Z
DTEND:20200820T030000Z
X-MICROSOFT-CDO-ALLDAYEVENT:FALSE
SUMMARY:Government Affairs Council: August 2020 Video Conference
DESCRIPTION:The Government Affairs Council will convene on August 20 with the following agenda:\n\n\n	The Government Affairs and Public Policy Report: August 2020.\n	AMCHAM meeting with the Director General of the Department of Employment.\n	AMCHAM upcoming meeting with the Director General of the Department of Intellectual Property.\n	Other matters.\n\nAll AMCHAM members are welcome to attend the Government Affairs Council meetings to stay abreast of the policy priorities that AMCHAM advocates on behalf of all members. Advance registration is necessary\, as we do not accept non-member guests for these meetings.\n\n\n\nMembership in the AMCHAM Thailand Government Affairs Council is open to managers of government relations and public affairs of AMCHAM Thailand member companies.\n\n\nTo continue to receive updates on our advocacy meetings and activities\, or to request to join the Council\, please contact kittie@amchamthailand.com.
X-ALT-DESC;FMTTYPE=text/html:<p>The Government Affairs Council will convene on August 20 with the following agenda:</p>\n\n<ul>\n	<li>The Government Affairs and Public Policy Report: August 2020.</li>\n	<li>AMCHAM meeting with the Director General&nbsp\;of the Department of Employment.</li>\n	<li>AMCHAM upcoming meeting with the Director General of the Department of Intellectual Property.</li>\n	<li>Other matters.</li>\n</ul>\nAll AMCHAM members are welcome to attend the Government Affairs Council meetings to stay abreast of the policy priorities that AMCHAM advocates on behalf of all members. Advance registration is necessary\, as we do not accept non-member guests for these meetings.<br />\n<br />\nMembership in the AMCHAM Thailand Government Affairs Council is open to managers of government relations and public affairs of AMCHAM Thailand member companies.\n<p><br />\nTo continue to receive updates on our advocacy meetings and activities\, or to request to join the Council\, please contact <a href="mailto:kittie@amchamthailand.com">kittie@amchamthailand.com</a>.</p>\n
LOCATION:Video Conference
UID:e.3314.1555
SEQUENCE:3
DTSTAMP:20260422T144441Z
URL:http://www.connect.amchamthailand.com/events/details/government-affairs-council-august-2020-video-conference-1555
END:VEVENT

END:VCALENDAR
