BEGIN:VCALENDAR
VERSION:2.0
PRODID:-//ChamberMaster//Event Calendar 2.0//EN
METHOD:PUBLISH
X-PUBLISHED-TTL:P3D
REFRESH-INTERVAL:P3D
CALSCALE:GREGORIAN
BEGIN:VEVENT
DTSTART:20210818T020000Z
DTEND:20210818T030000Z
X-MICROSOFT-CDO-ALLDAYEVENT:FALSE
SUMMARY:Government Affairs Council: August 2021 Video Conference
DESCRIPTION:The Government Affairs Council will convene virtually on August 18 with the following agenda:\n\n\n	The Government Affairs report of August:\n	\n		AMCHAM Road Safety Meeting with Permanent Secretary Chayatan Phromsorn\, Ministry of Transport on July 21\n		AMCHAM Road Safety Meeting with Deputy Director General Chestha Mosikarat\, Department of Disaster Prevention and Mitigation on July 29\n		Update on AMCHAM position paper on Revamping the Social Security System to Support Thai Workers.\n	\n	\n	Matters for discussion:\n	\n		Drafted Royal Decree on Digital Platform Service Providers by the ETDA\n		AMCHAM position paper on Paper on Visa and Work Permit\n	\n	\n	Status of upcoming meetings with the government:\n	\n		Office of the Public Sector Development Commission (OPDC) on September 3\n		AMCHAM Involvement in APEC 2022 Meeting\n	\n	\n	Other matters\n\n\nAll AMCHAM members are welcome to attend the Government Affairs Council meetings to stay abreast of the policy priorities that AMCHAM advocates for on behalf of members. Advance registration is necessary\, as we do not accept walk-ins or non-member guests for these meetings.\n\nMembership in the AMCHAM Thailand Government Affairs Council is open to managers of government relations and public affairs of AMCHAM Thailand member companies.\n\n \n\nTo continue to receive updates on our advocacy meetings and activities\, or to request to join the Council\, please contact kittie@amchamthailand.com
X-ALT-DESC;FMTTYPE=text/html:<p color:="" font-size:="" line-height:="" margin-bottom:="" margin-top:="" open="">The Government Affairs Council will convene virtually on August 18 with the following agenda:</p>\n\n<ul 0px="" 1rem="" color:="" font-size:="" list-style-image:="" list-style-position:="" margin:="" open="" outline:="">\n	<li>The Government Affairs report of August:\n	<ul>\n		<li>AMCHAM Road Safety Meeting with&nbsp\;Permanent Secretary Chayatan Phromsorn\, Ministry of Transport on July 21</li>\n		<li>AMCHAM Road Safety Meeting with&nbsp\;Deputy Director General Chestha Mosikarat\, Department of Disaster Prevention and Mitigation on July 29</li>\n		<li>Update on AMCHAM position paper on Revamping the Social Security System to Support Thai Workers.</li>\n	</ul>\n	</li>\n	<li>Matters for discussion:\n	<ul>\n		<li>Drafted Royal Decree on Digital Platform Service Providers by the ETDA</li>\n		<li>AMCHAM position paper on Paper on Visa and Work Permit</li>\n	</ul>\n	</li>\n	<li>Status of upcoming meetings with the government:\n	<ul>\n		<li>Office of the Public Sector Development Commission (OPDC) on September 3</li>\n		<li>AMCHAM Involvement in APEC 2022 Meeting</li>\n	</ul>\n	</li>\n	<li>Other matters</li>\n</ul>\n\n<p color:="" font-size:="" line-height:="" margin-bottom:="" margin-top:="" open="">All AMCHAM members are welcome to attend the Government Affairs Council meetings to stay abreast of the policy priorities that AMCHAM advocates for on behalf of members. Advance registration is necessary\, as we do not accept walk-ins or non-member guests for these meetings.</p>\n\n<p color:="" font-size:="" line-height:="" margin-bottom:="" margin-top:="" open="">Membership in the AMCHAM Thailand Government Affairs Council is open to managers of government relations and public affairs of AMCHAM Thailand member companies.<br />\n&nbsp\;<br />\nTo continue to receive updates on our advocacy meetings and activities\, or to request to join the Council\, please contact&nbsp\;<a href="mailto:kittie@amchamthailand.com">kittie@amchamthailand.com</a></p>\n
LOCATION:Video Conference
UID:e.3314.1966
SEQUENCE:3
DTSTAMP:20260421T193337Z
URL:http://www.connect.amchamthailand.com/events/details/government-affairs-council-august-2021-video-conference-1966
END:VEVENT

END:VCALENDAR
