BEGIN:VCALENDAR
VERSION:2.0
PRODID:-//ChamberMaster//Event Calendar 2.0//EN
METHOD:PUBLISH
X-PUBLISHED-TTL:P3D
REFRESH-INTERVAL:P3D
CALSCALE:GREGORIAN
BEGIN:VEVENT
DTSTART:20190227T020000Z
DTEND:20190227T033000Z
X-MICROSOFT-CDO-ALLDAYEVENT:FALSE
SUMMARY:Government Affairs Council: February 2019 Meeting
DESCRIPTION:The Government Affairs Council will convene to discuss the following topics:\n\n	Advocacy Report - February 2019.\n	Updating AMCHAM White Paper   Contributions to Thailand 4.0\n	AMCHAM Road Safety Campaign 2019.\n	Advocacy plan on 2 digital bills.\n\nGovernment Affairs Council members and Government Affairs managers from AMCHAM member companies are all invited to attend.
X-ALT-DESC;FMTTYPE=text/html:The Government Affairs Council will convene to discuss the following topics:\n<ul>\n	<li>Advocacy Report - February 2019.</li>\n	<li>Updating AMCHAM White Paper &ndash\; Contributions to Thailand 4.0</li>\n	<li>AMCHAM Road Safety Campaign 2019.</li>\n	<li>Advocacy plan on 2 digital bills.</li>\n</ul>\nGovernment Affairs Council members and Government Affairs managers from AMCHAM member companies are all invited to attend.
LOCATION:AMCHAM Office\, Citi Boardroom BTS: Ploenchit
UID:e.3314.259
SEQUENCE:3
DTSTAMP:20260423T221811Z
URL:http://www.connect.amchamthailand.com/events/details/government-affairs-council-february-2019-meeting-259
END:VEVENT

END:VCALENDAR
