BEGIN:VCALENDAR
VERSION:2.0
PRODID:-//ChamberMaster//Event Calendar 2.0//EN
METHOD:PUBLISH
X-PUBLISHED-TTL:P3D
REFRESH-INTERVAL:P3D
CALSCALE:GREGORIAN
BEGIN:VEVENT
DTSTART:20200226T020000Z
DTEND:20200226T033000Z
X-MICROSOFT-CDO-ALLDAYEVENT:FALSE
SUMMARY:Government Affairs Council: February 2020 Meeting
DESCRIPTION:The Government Affairs Council will convene on February 26 with the following agenda:\n\n \n\n\n	Government Affairs and Public Policy Report   February 2020.\n	\n		Meetings.\n		Public policy updates.\n	\n	\n	Updating the AMCHAM White Paper.\n	\n		To consider inputs and comments from all AMCHAM Committees and finalize the White Paper before submitting it to the Board of Governors.\n		The White Paper focuses on Healthcare\, Digital Economy\, SMEs\, EEC\, Human Resources Development\, and Tourism and Environmental Sustainability.\n	\n	\n	Other matters.\n\nAll AMCHAM members are welcome to attend the Government Affairs Council meetings to stay abreast of the policy priorities that AMCHAM advocates for on behalf of members. Advance registration is necessary\, as we do not accept walk-ins or non-member guests for these meetings.\n\n\n\nMembership in the AMCHAM Thailand Government Affairs Council is open to managers of government relations and public affairs of AMCHAM Thailand member companies.\n\n\nTo continue to receive updates on our advocacy meetings and activities\, or to request to join the Council\, please contact kittie@amchamthailand.com.
X-ALT-DESC;FMTTYPE=text/html:<p>The Government Affairs Council will convene on February 26&nbsp\;with the following agenda:<br />\n&nbsp\;</p>\n\n<ul>\n	<li>Government Affairs and Public Policy Report &ndash\; February 2020.\n	<ul>\n		<li>Meetings.</li>\n		<li>Public policy updates.</li>\n	</ul>\n	</li>\n	<li>Updating the AMCHAM White Paper.\n	<ul>\n		<li>To consider inputs and comments from all AMCHAM Committees and finalize the White Paper before submitting it to the Board of Governors.</li>\n		<li>The White Paper focuses on Healthcare\, Digital Economy\, SMEs\, EEC\, Human Resources Development\, and Tourism and Environmental Sustainability.</li>\n	</ul>\n	</li>\n	<li>Other matters.</li>\n</ul>\nAll AMCHAM members are welcome to attend the Government Affairs Council meetings to stay abreast of the policy priorities that AMCHAM advocates for on behalf of members. Advance registration is necessary\, as we do not accept walk-ins or non-member guests for these meetings.<br />\n<br />\nMembership in the AMCHAM Thailand Government Affairs Council is open to managers of government relations and public affairs of AMCHAM Thailand member companies.\n<p><br />\nTo continue to receive updates on our advocacy meetings and activities\, or to request to join the Council\, please contact <a href="mailto:kittie@amchamthailand.com"><font color="#0066cc">kittie@amchamthailand.com</font></a>.</p>\n
LOCATION:AMCHAM Office\, Citi Boardroom BTS: Ploenchit
UID:e.3314.1537
SEQUENCE:3
DTSTAMP:20260423T021315Z
URL:http://www.connect.amchamthailand.com/events/details/government-affairs-council-february-2020-meeting-1537
END:VEVENT

END:VCALENDAR
