BEGIN:VCALENDAR
VERSION:2.0
PRODID:-//ChamberMaster//Event Calendar 2.0//EN
METHOD:PUBLISH
X-PUBLISHED-TTL:P3D
REFRESH-INTERVAL:P3D
CALSCALE:GREGORIAN
BEGIN:VEVENT
DTSTART:20220223T020000Z
DTEND:20220223T030000Z
X-MICROSOFT-CDO-ALLDAYEVENT:FALSE
SUMMARY:Government Affairs Council: February 2022 Video Conference
DESCRIPTION:The Government Affairs Council will convene virtually on February 23. The meeting agenda will be updated.\n\n \n\nAll AMCHAM members are welcome to attend the Government Affairs Council meetings to stay abreast of the policy priorities that AMCHAM advocates for on behalf of members. Advance registration is necessary.\n\n \n\nMembership in the AMCHAM Thailand Government Affairs Council is open to managers of government relations and public affairs of AMCHAM Thailand member companies.\n\n\n\nAgenda:\n\n \n\nMeetings with the Government \n\n	AMCHAM Luncheon with US Embassy\, Jan 19\n	Membership and Roundtable meeting with the Secretary-General of BOI\, Jan 21\n	Roundtable meeting with the Deputy Prime Minister and Minister of Public Health\, Jan 26\n	Public Conference on "One Platform for foreigner study" by Digital Government Agency\, Jan 25\n	Meeting with Regulatory Guillotine Sub-committee on visa and work permit\, Feb 11 \n\nAMCHAM Paper for Approval \n\n\n	LTR paper on expanding targeted industries for the High-Skilled Professionals category\n	AMCHAM Position Paper on Responsible Hospitality & Tourism Recovery\n\nMatters for Discussion \n\n\n	Update on AMCHAM Advocacy Strategy 2022 \n	\n		Customs processing and cross-border clearance\n		FDA approval process\n		BOI applications and applicability\n	\n	\n\nUpcoming Engagements with Governments \n\n\n	Virtual Membership and Roundtable meetings with Creative Economy Agency\n	Membership luncheon with the Deputy Prime Minister and Minister of Energy\n	Virtual Membership and Roundtable meetings with Department of Trade Negotiations\n	Virtual Roundtable meeting with the Permanent-Secretary of Ministry of Foreign Affairs\n	Membership luncheon with the Minister of Natural Resources and Environment\n	Virtual Roundtable meeting with the Personal Data Protection Committee\n	HS 2022 Training Session with Customs Department\n\nOther matters \n\n\n\nTo continue to receive updates on our advocacy meetings and activities\, or to request to join the Council\, please contact theeta@amchamthailand.com
X-ALT-DESC;FMTTYPE=text/html:The Government Affairs Council will convene virtually on February 23. The meeting agenda will be updated.<br color:="" font-size:="" open="" />\n&nbsp\;<br color:="" font-size:="" open="" />\nAll AMCHAM members are welcome to attend the Government Affairs Council meetings to stay abreast of the policy priorities that AMCHAM advocates for on behalf of members. Advance registration is necessary.<br color:="" font-size:="" open="" />\n&nbsp\;<br color:="" font-size:="" open="" />\nMembership in the AMCHAM Thailand Government Affairs Council is open to managers of government relations and public affairs of AMCHAM Thailand member companies.<br />\n<br />\nAgenda:<br color:="" font-size:="" open="" />\n&nbsp\;<br />\n<strong><span style="font-family:calibri\,sans-serif\;">Meetings with the Government&nbsp\;</span></strong>\n<ul>\n	<li>AMCHAM Luncheon with US Embassy\, Jan 19</li>\n	<li>Membership and Roundtable meeting with the Secretary-General of BOI\, Jan 21</li>\n	<li>Roundtable meeting with the Deputy Prime Minister and Minister of Public Health\, Jan 26</li>\n	<li>Public Conference on &ldquo\;One Platform for foreigner study&rdquo\; by Digital Government Agency\, Jan 25</li>\n	<li>Meeting with Regulatory Guillotine Sub-committee on visa and work permit\, Feb 11&nbsp\;</li>\n</ul>\n<strong><span style="font-family:calibri\,sans-serif\;">AMCHAM Paper for Approval&nbsp\;</span></strong>\n\n<ul>\n	<li>LTR paper on expanding targeted industries for the High-Skilled Professionals category</li>\n	<li>AMCHAM Position Paper on Responsible Hospitality &amp\; Tourism Recovery</li>\n</ul>\n<strong><span style="font-family:calibri\,sans-serif\;">Matters for Discussion&nbsp\;</span></strong>\n\n<ul>\n	<li>Update on AMCHAM Advocacy&nbsp\;Strategy&nbsp\;2022&nbsp\;\n	<ul>\n		<li>Customs processing and cross-border clearance</li>\n		<li>FDA approval process</li>\n		<li>BOI applications and applicability</li>\n	</ul>\n	</li>\n</ul>\n<strong><span style="font-family:calibri\,sans-serif\;">Upcoming Engagements with Governments&nbsp\;</span></strong>\n\n<ul>\n	<li>Virtual Membership and Roundtable meetings with Creative Economy Agency</li>\n	<li>Membership luncheon with the Deputy Prime Minister and Minister of Energy</li>\n	<li>Virtual Membership and Roundtable meetings with Department of Trade Negotiations</li>\n	<li>Virtual Roundtable meeting with the Permanent-Secretary of Ministry of Foreign Affairs</li>\n	<li>Membership luncheon with the Minister of Natural Resources and Environment</li>\n	<li>Virtual Roundtable meeting with the Personal Data Protection Committee</li>\n	<li>HS 2022 Training Session with Customs Department</li>\n</ul>\n<strong><span style="font-family:calibri\,sans-serif\;"><span style="font-size:11.0pt\;">Other matters&nbsp\;</span></span></strong><br />\n<br color:="" font-size:="" open="" />\nTo continue to receive updates on our advocacy meetings and activities\, or to request to join the Council\, please contact theeta@amchamthailand.com
LOCATION:Video conference
UID:e.3314.2098
SEQUENCE:3
DTSTAMP:20260421T052019Z
URL:http://www.connect.amchamthailand.com/events/details/government-affairs-council-february-2022-video-conference-2098
END:VEVENT

END:VCALENDAR
