BEGIN:VCALENDAR
VERSION:2.0
PRODID:-//ChamberMaster//Event Calendar 2.0//EN
METHOD:PUBLISH
X-PUBLISHED-TTL:P3D
REFRESH-INTERVAL:P3D
CALSCALE:GREGORIAN
BEGIN:VEVENT
DTSTART:20190124T020000Z
DTEND:20190124T033000Z
X-MICROSOFT-CDO-ALLDAYEVENT:FALSE
SUMMARY:Government Affairs Council: January 2019 Meeting
DESCRIPTION:The Government Affairs Council will convene to discuss the following topics:\n\n	Advocacy Report / Meetings with Government\, January 2019.\n	Advocacy Plan for 2019.\n	AMCHAM Road Safety Campaign 2019.\n	Briefing on public hearings on draft Cybersecurity Act.\n	Legal Committee informative events on new Thai laws.\n\nGovernment Affairs Council members and Government Affairs managers from AMCHAM member companies are all invited to attend.
X-ALT-DESC;FMTTYPE=text/html:The Government Affairs Council will convene to discuss the following topics:\n<ul>\n	<li>Advocacy Report / Meetings with Government\, January 2019.</li>\n	<li>Advocacy Plan for 2019.</li>\n	<li>AMCHAM Road Safety Campaign 2019.</li>\n	<li>Briefing on public hearings on draft Cybersecurity Act.</li>\n	<li>Legal Committee informative events on new Thai laws.</li>\n</ul>\nGovernment Affairs Council members and Government Affairs managers from AMCHAM member companies are all invited to attend.
LOCATION:AMCHAM Office\, Citi Boardroom BTS: Ploenchit
UID:e.3314.189
SEQUENCE:3
DTSTAMP:20260424T000719Z
URL:http://www.connect.amchamthailand.com/events/details/government-affairs-council-january-2019-meeting-189
END:VEVENT

END:VCALENDAR
