BEGIN:VCALENDAR
VERSION:2.0
PRODID:-//ChamberMaster//Event Calendar 2.0//EN
METHOD:PUBLISH
X-PUBLISHED-TTL:P3D
REFRESH-INTERVAL:P3D
CALSCALE:GREGORIAN
BEGIN:VEVENT
DTSTART:20210112T020000Z
DTEND:20210112T030000Z
X-MICROSOFT-CDO-ALLDAYEVENT:FALSE
SUMMARY:Government Affairs Council: January 2021 Video Conference
DESCRIPTION:The Government Affairs Council will convene virtually on January 12 with the following agenda:\n\n\n	Update on advocacy and government engagement.\n	\n		AMCHAM meetings with\n		\n			Mr. Anutin Charnvirakul\, Deputy Prime Minister and Minister of Public Health \n			Mr. Sirirurg Songsivilai\, Permanent Secretary\, Ministry of Higher Education\, Science\, Research\, and Innovation\, and\n			Mr. Kulit Sombatsiri\, Permanent Secretary\, Ministry of Energy.\n		\n		\n		AMCHAM upcoming meetings with\n		\n			Ms. Auramon Supthaweethum\, Director General\, Department of Trade Negotiations.\n			Mr. Arkhom Termpittayapaisith\, Minister of Finance\, and\n			Mr. Anutin Charnvirakul\, Deputy Prime Minister and Minister of Public Health.\n		\n		\n	\n	\n	Generalized System of Preferences (GSP) program expiration.\n	Members' issues for discussion   online alcohol sale ban.\n	Other matters.\n\nAll AMCHAM members are welcome to attend the Government Affairs Council meetings to stay abreast of the policy priorities that AMCHAM advocates for on behalf of members. Advance registration is necessary\, as we do not accept walk-ins or non-member guests for these meetings.\n\n\n\nMembership in the AMCHAM Thailand Government Affairs Council is open to managers of government relations and public affairs of AMCHAM Thailand member companies.\n\n\n\nTo continue to receive updates on our advocacy meetings and activities\, or to request to join the Council\, please contact kittie@amchamthailand.com.
X-ALT-DESC;FMTTYPE=text/html:<p>The Government Affairs Council will convene virtually on January 12 with the following agenda:</p>\n\n<ul>\n	<li>Update on advocacy and government engagement.\n	<ul>\n		<li>AMCHAM meetings with\n		<ul>\n			<li>Mr. Anutin Charnvirakul\, Deputy Prime Minister and Minister of Public Health&nbsp\;</li>\n			<li>Mr. Sirirurg Songsivilai\,&nbsp\;Permanent Secretary\, Ministry of Higher Education\, Science\, Research\, and Innovation\, and</li>\n			<li>Mr. Kulit Sombatsiri\, Permanent Secretary\, Ministry of Energy.</li>\n		</ul>\n		</li>\n		<li>AMCHAM upcoming meetings with\n		<ul>\n			<li>Ms. Auramon Supthaweethum\,&nbsp\;Director General\, Department of Trade Negotiations.</li>\n			<li>Mr. Arkhom Termpittayapaisith\, Minister&nbsp\;of Finance\, and</li>\n			<li>Mr.&nbsp\;Anutin Charnvirakul\,&nbsp\;Deputy Prime Minister and Minister of Public Health.</li>\n		</ul>\n		</li>\n	</ul>\n	</li>\n	<li>Generalized System of Preferences (GSP) program expiration.</li>\n	<li>Members&rsquo\; issues for discussion &ndash\; online alcohol sale ban.</li>\n	<li>Other matters.</li>\n</ul>\nAll AMCHAM members are welcome to attend the Government Affairs Council meetings to stay abreast of the policy priorities that AMCHAM advocates for on behalf of members. Advance registration is necessary\, as we do not accept walk-ins or non-member guests for these meetings.<br />\n<br />\nMembership in the AMCHAM Thailand Government Affairs Council is open to managers of government relations and public affairs of AMCHAM Thailand member companies.<br />\n<br />\nTo continue to receive updates on our advocacy meetings and activities\, or to request to join the Council\, please contact&nbsp\;<a href="mailto:kittie@amchamthailand.com">kittie@amchamthailand.com</a>.
LOCATION:Online Video Conference
UID:e.3314.1799
SEQUENCE:3
DTSTAMP:20260422T080147Z
URL:http://www.connect.amchamthailand.com/events/details/government-affairs-council-january-2021-video-conference-1799
END:VEVENT

END:VCALENDAR
