BEGIN:VCALENDAR
VERSION:2.0
PRODID:-//ChamberMaster//Event Calendar 2.0//EN
METHOD:PUBLISH
X-PUBLISHED-TTL:P3D
REFRESH-INTERVAL:P3D
CALSCALE:GREGORIAN
BEGIN:VEVENT
DTSTART:20210720T020000Z
DTEND:20210720T030000Z
X-MICROSOFT-CDO-ALLDAYEVENT:FALSE
SUMMARY:Government Affairs Council: July 2021 Videoconference
DESCRIPTION:The Government Affairs Council will convene virtually on July 20 with the following agenda:\n\n	The Government Affairs report of May-June:\n	AMCHAM meeting with Minister of Tourism and Sports on June 16.\n	AMCHAM meeting with Minister of Digital Economy and Society on July 16.\n	Thai Chamber of Commerce Meeting with Foreign Chambers on Economic Recovery and Vaccine Roll Out\n	Public Hearings on PDPA in June and AMCHAM Recommendations.\n	Matters for discussion\n	\n		Result of Ten for Ten priority for Members following July 2 Strategy Session and Discussion on next steps.\n		Thailand will host APEC 2022\, member input requested on AMCHAM involvement.\n		AMCHAM position papers on work permit and visa\, and revamping the social security system. Last chance to comment before these are approved at this GAC meeting.\n	\n	\n	Status of upcoming meetings with the government:\n	Permanent Secretary of Ministry of Transport - Road Safety   July 21.\n	\n		Minister of Labor.\n		Deputy Prime Minister and Minister of Public Health.\n		Prime Minister.\n	\n	\n	Other matters.\n\n\nAll AMCHAM members are welcome to attend the Government Affairs Council meetings to stay abreast of the policy priorities that AMCHAM advocates for on behalf of members. Advance registration is necessary\, as we do not accept walk-ins or non-member guests for these meetings.\n\nMembership in the AMCHAM Thailand Government Affairs Council is open to managers of government relations and public affairs of AMCHAM Thailand member companies.\n\n \n\nTo continue to receive updates on our advocacy meetings and activities\, or to request to join the Council\, please contact kittie@amchamthailand.com
X-ALT-DESC;FMTTYPE=text/html:The Government Affairs Council will convene virtually on July 20 with the following agenda:\n<ul>\n	<li>The Government Affairs report of May-June:</li>\n	<li>AMCHAM meeting with Minister of Tourism and Sports on June 16.</li>\n	<li>AMCHAM meeting with Minister of Digital Economy and Society on July 16.</li>\n	<li>Thai Chamber of Commerce Meeting with Foreign Chambers on Economic Recovery and Vaccine Roll Out</li>\n	<li>Public Hearings on PDPA in June and AMCHAM Recommendations.</li>\n	<li>Matters for discussion\n	<ul>\n		<li>Result of Ten for Ten priority for Members following July 2 Strategy Session and Discussion on next steps.</li>\n		<li>Thailand will host APEC 2022\, member input requested on AMCHAM involvement.</li>\n		<li>AMCHAM position papers on&nbsp\;<a href="https://teams.microsoft.com/l/file/D90E9DC8-4BBD-4779-A60F-BC31BA1645A0?tenantId=db076fbe-d58c-4f20-9456-7ecc06f5041d&amp\;fileType=docx&amp\;objectUrl=https%3A%2F%2Famchamthai.sharepoint.com%2Fsites%2FAMCHAMGovernmentAffairsCouncil%2FShared%20Documents%2FGeneral%2FPosition%20Papers%20and%20Letters%20-%20Under%20Review%2FWork%20Permits%20and%20Visas%202021.docx&amp\;baseUrl=https%3A%2F%2Famchamthai.sharepoint.com%2Fsites%2FAMCHAMGovernmentAffairsCouncil&amp\;serviceName=teams&amp\;threadId=19:c22bbd3cd6fa4644bd59294d11198944@thread.tacv2&amp\;messageId=1622424233435&amp\;groupId=05808ff3-262d-478f-9444-9294fbbf0e64">work permit and visa</a>\, and&nbsp\;<a href="https://teams.microsoft.com/l/file/979CF820-E6F5-4751-B395-5D19B109D37D?tenantId=db076fbe-d58c-4f20-9456-7ecc06f5041d&amp\;fileType=docx&amp\;objectUrl=https%3A%2F%2Famchamthai.sharepoint.com%2Fsites%2FAMCHAMGovernmentAffairsCouncil%2FShared%20Documents%2FGeneral%2FPosition%20Papers%20and%20Letters%20-%20Under%20Review%2FSocial%20Security%20May%202021-HG-%20adjusted.docx&amp\;baseUrl=https%3A%2F%2Famchamthai.sharepoint.com%2Fsites%2FAMCHAMGovernmentAffairsCouncil&amp\;serviceName=teams&amp\;threadId=19:c22bbd3cd6fa4644bd59294d11198944@thread.tacv2&amp\;messageId=1623206198287&amp\;groupId=05808ff3-262d-478f-9444-9294fbbf0e64">revamping the social security system</a>. Last chance to comment before these are approved at this GAC meeting.</li>\n	</ul>\n	</li>\n	<li>Status of upcoming meetings with the government:</li>\n	<li>Permanent Secretary of Ministry of Transport - Road Safety &ndash\; July 21.\n	<ul>\n		<li>Minister of Labor.</li>\n		<li>Deputy Prime Minister and Minister of Public Health.</li>\n		<li>Prime Minister.</li>\n	</ul>\n	</li>\n	<li>Other matters.</li>\n</ul>\n\n<p>All AMCHAM members are welcome to attend the Government Affairs Council meetings to stay abreast of the policy priorities that AMCHAM advocates for on behalf of members. Advance registration is necessary\, as we do not accept walk-ins or non-member guests for these meetings.</p>\n\n<p>Membership in the AMCHAM Thailand Government Affairs Council is open to managers of government relations and public affairs of AMCHAM Thailand member companies.<br />\n&nbsp\;<br />\nTo continue to receive updates on our advocacy meetings and activities\, or to request to join the Council\, please contact <a href="mailto:kittie@amchamthailand.com">kittie@amchamthailand.com</a></p>\n
LOCATION:Videoconference
UID:e.3314.1935
SEQUENCE:3
DTSTAMP:20260421T193234Z
URL:http://www.connect.amchamthailand.com/events/details/government-affairs-council-july-2021-videoconference-1935
END:VEVENT

END:VCALENDAR
