BEGIN:VCALENDAR
VERSION:2.0
PRODID:-//ChamberMaster//Event Calendar 2.0//EN
METHOD:PUBLISH
X-PUBLISHED-TTL:P3D
REFRESH-INTERVAL:P3D
CALSCALE:GREGORIAN
BEGIN:VEVENT
DTSTART:20200326T020000Z
DTEND:20200326T033000Z
X-MICROSOFT-CDO-ALLDAYEVENT:FALSE
SUMMARY:Government Affairs Council: March 2020 Video Conference
DESCRIPTION:The Government Affairs Council will convene on March 26 with the following agenda:\n\n- The Government Affairs and Public Policy Report   March 2020.\n\n- Exchange of views on Covid-19:\n\n      - Public policy and measures.\n\n      - AMCHAM members' responses to the situation.\n\n- Other matters.\nAll AMCHAM members are welcome to attend the Government Affairs Council meetings to stay abreast of the policy priorities that AMCHAM advocates for on behalf of members.\n\n\n\nMembership in the AMCHAM Thailand Government Affairs Council is open to managers of government relations and public affairs of AMCHAM Thailand member companies.\nTo continue to receive updates on our advocacy meetings and activities\, or to request to join the Council\, please contact kittie@amchamthailand.com.
X-ALT-DESC;FMTTYPE=text/html:<p>The Government Affairs Council will convene on March&nbsp\;26&nbsp\;with the following agenda:</p>\n\n<p>- The Government Affairs and Public Policy Report &ndash\; March 2020.<br />\n- Exchange of views on Covid-19:<br />\n&nbsp\; &nbsp\; &nbsp\; - Public policy and measures.<br />\n&nbsp\; &nbsp\; &nbsp\; - AMCHAM members&rsquo\; responses to the situation.<br />\n- Other matters.</p>\nAll AMCHAM members are welcome to attend the Government Affairs Council meetings to stay abreast of the policy priorities that AMCHAM advocates for on behalf of members.<br />\n<br />\nMembership in the AMCHAM Thailand Government Affairs Council is open to managers of government relations and public affairs of AMCHAM Thailand member companies.\n<p>To continue to receive updates on our advocacy meetings and activities\, or to request to join the Council\, please contact <a href="mailto:kittie@amchamthailand.com">kittie@amchamthailand.com</a>.</p>\n
LOCATION:This event will be offered as an online video conference. To ensure clear and interactive dialogue\, the number of spots will be limited\, so please register ASAP.
UID:e.3314.1539
SEQUENCE:3
DTSTAMP:20260423T001710Z
URL:http://www.connect.amchamthailand.com/events/details/government-affairs-council-march-2020-video-conference-1539
END:VEVENT

END:VCALENDAR
