BEGIN:VCALENDAR
VERSION:2.0
PRODID:-//ChamberMaster//Event Calendar 2.0//EN
METHOD:PUBLISH
X-PUBLISHED-TTL:P3D
REFRESH-INTERVAL:P3D
CALSCALE:GREGORIAN
BEGIN:VEVENT
DTSTART:20200521T020000Z
DTEND:20200521T033000Z
X-MICROSOFT-CDO-ALLDAYEVENT:FALSE
SUMMARY:Government Affairs Council: May 2020 Meeting
DESCRIPTION:The Government Affairs Council will convene on May 21 with the following agenda:\n\n\n	Government Affairs and Public Policy Report: May 2020.\n	Draft Government Affairs Council position paper on ease of doing business recommendations during the Covid-19 crisis.\n	Draft Customs and Excise Council position paper on proposed relief measures to alleviate Covid-19 impact on businesses.\n\nAll AMCHAM members are welcome to attend the Government Affairs Council meetings to stay abreast of the policy priorities that AMCHAM advocates on behalf of members. Advance registration is necessary\, as we do not accept walk-ins or non-member guests for these meetings.\n\n\n\nMembership in the AMCHAM Thailand Government Affairs Council is open to managers of government relations and public affairs of AMCHAM Thailand member companies.\nTo continue to receive updates on our advocacy meetings and activities\, or to request to join the Council\, please contact kittie@amchamthailand.com.
X-ALT-DESC;FMTTYPE=text/html:<p>The Government Affairs Council will convene on May 21&nbsp\;with the following agenda:</p>\n\n<ul>\n	<li>Government Affairs and Public Policy Report: May 2020.</li>\n	<li>Draft Government Affairs Council position paper on ease of doing business recommendations during the Covid-19 crisis.</li>\n	<li>Draft Customs and Excise Council position paper on proposed relief measures to alleviate Covid-19 impact on businesses.</li>\n</ul>\nAll AMCHAM members are welcome to attend the Government Affairs Council meetings to stay abreast of the policy priorities that AMCHAM advocates on behalf of members. Advance registration is necessary\, as we do not accept walk-ins or non-member guests for these meetings.<br />\n<br />\nMembership in the AMCHAM Thailand Government Affairs Council is open to managers of government relations and public affairs of AMCHAM Thailand member companies.\n<p>To continue to receive updates on our advocacy meetings and activities\, or to request to join the Council\, please contact <a href="mailto:kittie@amchamthailand.com">kittie@amchamthailand.com</a>.</p>\n
LOCATION:Video conference Meeting
UID:e.3314.1551
SEQUENCE:3
DTSTAMP:20260422T201500Z
URL:http://www.connect.amchamthailand.com/events/details/government-affairs-council-may-2020-meeting-1551
END:VEVENT

END:VCALENDAR
