BEGIN:VCALENDAR
VERSION:2.0
PRODID:-//ChamberMaster//Event Calendar 2.0//EN
METHOD:PUBLISH
X-PUBLISHED-TTL:P3D
REFRESH-INTERVAL:P3D
CALSCALE:GREGORIAN
BEGIN:VEVENT
DTSTART:20201119T020000Z
DTEND:20201119T030000Z
X-MICROSOFT-CDO-ALLDAYEVENT:FALSE
SUMMARY:Government Affairs Council: November 2020 Video Conference
DESCRIPTION:The Government Affairs Council will convene virtually on November 19 with the following agenda:\n\n\n	The Government Affairs & Public Policy Report of November.\n	Recap of AMCHAM-Director General of Department of Business Development meeting.\n	Recap of AMCHAM-Finance Minister meeting\n	Recap of AMCHAM-Deputy Prime Minister / Public Health Minister meeting.\n	Members' issues for discussion.\n	Other matters.\n\nAll AMCHAM members are welcome to attend the Government Affairs Council meetings to stay abreast of the policy priorities that AMCHAM advocates for on behalf of members. Advance registration is necessary\, as we do not accept walk-ins or non-member guests for these meetings.\n\n\n\nMembership in the AMCHAM Thailand Government Affairs Council is open to managers of government relations and public affairs of AMCHAM Thailand member companies.\n\n\n\nTo continue to receive updates on our advocacy meetings and activities\, or to request to join the Council\, please contact kittie@amchamthailand.com.
X-ALT-DESC;FMTTYPE=text/html:<p>The Government Affairs Council will convene virtually on November 19&nbsp\;with the following agenda:</p>\n\n<ul>\n	<li>The Government Affairs &amp\; Public Policy Report of November.</li>\n	<li>Recap of AMCHAM-Director General of Department of Business Development meeting.</li>\n	<li>Recap of AMCHAM-Finance Minister meeting</li>\n	<li>Recap of AMCHAM-Deputy Prime Minister / Public Health Minister meeting.</li>\n	<li>Members&#39\;&nbsp\;issues for discussion.</li>\n	<li>Other matters.</li>\n</ul>\nAll AMCHAM members are welcome to attend the Government Affairs Council meetings to stay abreast of the policy priorities that AMCHAM advocates for on behalf of members. Advance registration is necessary\, as we do not accept walk-ins or non-member guests for these meetings.<br />\n<br />\nMembership in the AMCHAM Thailand Government Affairs Council is open to managers of government relations and public affairs of AMCHAM Thailand member companies.<br />\n<br />\nTo continue to receive updates on our advocacy meetings and activities\, or to request to join the Council\, please contact <a href="mailto:kittie@amchamthailand.com">kittie@amchamthailand.com</a>.
LOCATION:Online Video Conference
UID:e.3314.1559
SEQUENCE:3
DTSTAMP:20260422T095544Z
URL:http://www.connect.amchamthailand.com/events/details/government-affairs-council-november-2020-video-conference-1559
END:VEVENT

END:VCALENDAR
