BEGIN:VCALENDAR
VERSION:2.0
PRODID:-//ChamberMaster//Event Calendar 2.0//EN
METHOD:PUBLISH
X-PUBLISHED-TTL:P3D
REFRESH-INTERVAL:P3D
CALSCALE:GREGORIAN
BEGIN:VEVENT
DTSTART:20221123T020000Z
DTEND:20221123T030000Z
X-MICROSOFT-CDO-ALLDAYEVENT:FALSE
SUMMARY:Government Affairs Council: November 2022 Hybrid Meeting
DESCRIPTION:The Government Affairs Council will convene in a hybrid meeting on November 23. Members may choose to join online or in person.\n\n\n\nAt the event\, members will discuss AMCHAM government engagement strategy for 2023.\n\n\n\nAll AMCHAM members are welcome to attend the Government Affairs Council meetings to stay abreast of the policy priorities that AMCHAM advocates for on behalf of members. Advance registration is necessary.\n\n \n\nMembership in the AMCHAM Thailand Government Affairs Council is open to managers of government relations and public affairs of AMCHAM Thailand member companies.\n\n \n\nTo continue to receive updates on our advocacy meetings and activities\, or to request to join the Council\, please contact theeta@amchamthailand.com
X-ALT-DESC;FMTTYPE=text/html:The Government Affairs Council will convene in a hybrid meeting on November 23. Members may choose to join online or in person.<br />\n<br />\nAt the event\, members will discuss AMCHAM government engagement strategy for 2023.<br />\n<br color:="" font-size:="" open="" />\nAll AMCHAM members are welcome to attend the Government Affairs Council meetings to stay abreast of the policy priorities that AMCHAM advocates for on behalf of members. Advance registration is necessary.<br color:="" font-size:="" open="" />\n&nbsp\;<br color:="" font-size:="" open="" />\nMembership in the AMCHAM Thailand Government Affairs Council is open to managers of government relations and public affairs of AMCHAM Thailand member companies.<br color:="" font-size:="" open="" />\n&nbsp\;<br color:="" font-size:="" open="" />\nTo continue to receive updates on our advocacy meetings and activities\, or to request to join the Council\, please contact theeta@amchamthailand.com
LOCATION:Video Conference or the Boardroom at True Digital Park\, Griffin Building\, 7th Floor BTS: Punnawithi (direct exit to True Digital Park) For directions to the Griffin Building\, click here.
UID:e.3314.2324
SEQUENCE:3
DTSTAMP:20260420T152958Z
URL:http://www.connect.amchamthailand.com/events/details/government-affairs-council-november-2022-hybrid-meeting-2324
END:VEVENT

END:VCALENDAR
