BEGIN:VCALENDAR
VERSION:2.0
PRODID:-//ChamberMaster//Event Calendar 2.0//EN
METHOD:PUBLISH
X-PUBLISHED-TTL:P3D
REFRESH-INTERVAL:P3D
CALSCALE:GREGORIAN
BEGIN:VEVENT
DTSTART:20181126T073000Z
DTEND:20181126T083000Z
X-MICROSOFT-CDO-ALLDAYEVENT:FALSE
SUMMARY:Government Affairs Council: November Meeting
DESCRIPTION:The Government Affairs Council will convene to discuss the following topics:\n\n	Advocacy Report for October 2018.\n	Recap of the Stakeholders Meeting on the draft Cybersecurity law at Ministry of Digital Economy and Society.\n	Thailand's 20-Year National Strategy.\n	The Thai Innovation List.\n	AMCHAM Road Safety Campaign 2018-2019.\n\nGovernment Affairs Council members and Government Affairs managers from AMCHAM member companies are all invited to attend.
X-ALT-DESC;FMTTYPE=text/html:The Government Affairs Council will convene to discuss the following topics:\n<ul>\n	<li>Advocacy Report for October 2018.</li>\n	<li>Recap of the Stakeholders Meeting on the draft Cybersecurity law at Ministry of Digital Economy and Society.</li>\n	<li>Thailand&rsquo\;s 20-Year National Strategy.</li>\n	<li>The Thai Innovation List.</li>\n	<li>AMCHAM Road Safety Campaign 2018-2019.</li>\n</ul>\nGovernment Affairs Council members and Government Affairs managers from AMCHAM member companies&nbsp\;are all invited to attend.
LOCATION:AMCHAM Office\, Citi Boardroom BTS: Ploenchit
UID:e.3314.102
SEQUENCE:3
DTSTAMP:20260424T031734Z
URL:http://www.connect.amchamthailand.com/events/details/government-affairs-council-november-meeting-102
END:VEVENT

END:VCALENDAR
