BEGIN:VCALENDAR
VERSION:2.0
PRODID:-//ChamberMaster//Event Calendar 2.0//EN
METHOD:PUBLISH
X-PUBLISHED-TTL:P3D
REFRESH-INTERVAL:P3D
CALSCALE:GREGORIAN
BEGIN:VEVENT
DTSTART:20221019T020000Z
DTEND:20221019T030000Z
X-MICROSOFT-CDO-ALLDAYEVENT:FALSE
SUMMARY:Government Affairs Council: October 2022 Video Conference
DESCRIPTION:The Government Affairs Council will convene virtually on October 19. \n\n\n\nMeeting Agenda for October 19\n\n	Meetings with the Government\n	\n		Membership Luncheon with Assistant Secretary of the US and Foreign Commercial Service\, Arun Venkataraman\, Sept 20\n		Focus Group on sub-regulation for the draft decree on supervision of the digital platform services\, Sept 21\n		Virtual Membership Meeting with the Food and Drug Administration\, Oct 4\n		Membership Luncheon with the Bangkok Governor\, Chadchart Sittpunt\, Oct 5\n		Aerospace Council event\, Oct. 12\n		Meeting with US Ambassador Robert Godec\, Oct. 17\n		Board of Trade of Thailand Meeting\, Sept 15 \n	\n	\n	Update on AMCHAM position papers\n	\n		Update on the past paper   Reduction of the Social Security Contribution\n		Update on paper in process   Sustainable Healthcare Financing \n		Review of AMCHAM's position paper on Visa and Work Permit \n	\n	\n	Upcoming Engagements with Governments\n	\n		 Date confirmed \n		\n			CSR Award Ceremony\, Nov 22\n		\n		\n		 Pending\n		\n			Virtual Membership Meeting with the Minister of Agriculture and Cooperatives\n		\n		\n	\n	\n	Other matters\n	\n		Update on public hearing for PDPA sub-regulation \n		Next GAC meeting   In-person\, Nov.23 @ True Digital Park\n	\n	\n\nAll AMCHAM members are welcome to attend the Government Affairs Council meetings to stay abreast of the policy priorities that AMCHAM advocates for on behalf of members. Advance registration is necessary.\n\n \n\nMembership in the AMCHAM Thailand Government Affairs Council is open to managers of government relations and public affairs of AMCHAM Thailand member companies.\n\n \n\nTo continue to receive updates on our advocacy meetings and activities\, or to request to join the Council\, please contact theeta@amchamthailand.com
X-ALT-DESC;FMTTYPE=text/html:The Government Affairs Council will convene virtually on October 19.&nbsp\;<br />\n<br />\n<u><strong>Meeting Agenda for October 19</strong></u>\n<ul>\n	<li><strong><span style="font-family:arial\,sans-serif\;"><span style="font-size:10.0pt\;">M</span></span>eetings with the Government</strong>\n	<ul>\n		<li>Membership Luncheon with Assistant Secretary of the US and Foreign Commercial Service\, Arun Venkataraman\, Sept 20</li>\n		<li>Focus Group on sub-regulation for the draft decree on supervision of the digital platform services\, Sept 21</li>\n		<li>Virtual Membership Meeting with the Food and Drug Administration\, Oct 4</li>\n		<li>Membership Luncheon with the Bangkok Governor\, Chadchart Sittpunt\, Oct 5</li>\n		<li>Aerospace Council event\, Oct. 12</li>\n		<li>Meeting with US Ambassador Robert Godec\, Oct. 17</li>\n		<li>Board of Trade of Thailand Meeting\, Sept 15&nbsp\;</li>\n	</ul>\n	</li>\n	<li><strong>Update on&nbsp\;AMCHAM position papers</strong>\n	<ul>\n		<li>Update on the past paper &ndash\; Reduction of the Social Security Contribution</li>\n		<li>Update on paper in process &ndash\; Sustainable Healthcare Financing&nbsp\;</li>\n		<li>Review of AMCHAM&rsquo\;s position paper on Visa and Work Permit&nbsp\;</li>\n	</ul>\n	</li>\n	<li><strong>Upcoming Engagements with Governments</strong>\n	<ul>\n		<li><strong>&#8203\;Date confirmed</strong>&#8203\;\n		<ul>\n			<li>CSR Award Ceremony\, Nov 22</li>\n		</ul>\n		</li>\n		<li><strong>&#8203\;Pending</strong>\n		<ul>\n			<li>Virtual Membership Meeting with the Minister of Agriculture and Cooperatives</li>\n		</ul>\n		</li>\n	</ul>\n	</li>\n	<li><strong>Other matters</strong>\n	<ul>\n		<li>Update on public hearing for PDPA sub-regulation&nbsp\;</li>\n		<li>Next GAC meeting &ndash\; In-person\, Nov.23 @ True Digital Park</li>\n	</ul>\n	</li>\n</ul>\nAll AMCHAM members are welcome to attend the Government Affairs Council meetings to stay abreast of the policy priorities that AMCHAM advocates for on behalf of members. Advance registration is necessary.<br color:="" font-size:="" open="" />\n&nbsp\;<br color:="" font-size:="" open="" />\nMembership in the AMCHAM Thailand Government Affairs Council is open to managers of government relations and public affairs of AMCHAM Thailand member companies.<br color:="" font-size:="" open="" />\n&nbsp\;<br color:="" font-size:="" open="" />\nTo continue to receive updates on our advocacy meetings and activities\, or to request to join the Council\, please contact theeta@amchamthailand.com
LOCATION:Video conference
UID:e.3314.2196
SEQUENCE:3
DTSTAMP:20260420T142252Z
URL:http://www.connect.amchamthailand.com/events/details/government-affairs-council-october-2022-video-conference-2196
END:VEVENT

END:VCALENDAR
