BEGIN:VCALENDAR
VERSION:2.0
PRODID:-//ChamberMaster//Event Calendar 2.0//EN
METHOD:PUBLISH
X-PUBLISHED-TTL:P3D
REFRESH-INTERVAL:P3D
CALSCALE:GREGORIAN
BEGIN:VEVENT
DTSTART:20191010T020000Z
DTEND:20191010T033000Z
X-MICROSOFT-CDO-ALLDAYEVENT:FALSE
SUMMARY:Government Affairs Council: October Meeting
DESCRIPTION:Our Government Affairs Council will convene on October 10 with the topics to be discussed include:\n\n	The Advocacy Report   September 2019.\n	The recap of AMCHAM meeting with Dr. Kobsak Pootrakool\, Deputy Secretary General to the Prime Minister for Political Affairs.\n	The outcome of AMCHAM Seminar on Export Control and WMD laws.\n	The Auto Council's position on the implementation timeline for the mandatory Euro 5 & 6 emission standards.\n	The Customs & Excise Council Position Paper on Excise Tax Policy.\n	Recap of the NESDC meeting on Thailand's 20-Year National Strategy and Collaboration with International Development Partners.\n	The AMCHAM Road Safety Campaign.\n	Other matters.\n\nAll AMCHAM members are welcome to attend our Government Affairs Council meetings to stay abreast of the policy priorities that AMCHAM advocates for on behalf of our members. Advance registration is necessary\, as we do not accept walk-ins or non-member guests for these meetings.\n\nMembership in the AMCHAM Thailand Government Affairs Council is open to managers of government relations and public affairs of AMCHAM Thailand corporate members and other government affairs professionals in Thailand.\n\n\n\nTo continue to receive updates on our advocacy meetings and activities\, or to request to join the Council\, please contact kittie@amchamthailand.com.
X-ALT-DESC;FMTTYPE=text/html:Our Government Affairs Council will convene on October 10&nbsp\;with&nbsp\;the topics to be discussed include:\n<ul>\n	<li>The Advocacy Report &ndash\; September 2019.</li>\n	<li>The recap of AMCHAM meeting with Dr. Kobsak Pootrakool\, Deputy Secretary General to the Prime Minister for Political Affairs.</li>\n	<li>The outcome of AMCHAM Seminar on Export Control and WMD laws.</li>\n	<li>The Auto Council&rsquo\;s position on the implementation timeline for the mandatory Euro 5 &amp\; 6 emission standards.</li>\n	<li>The Customs &amp\; Excise Council Position Paper on Excise Tax Policy.</li>\n	<li>Recap of the NESDC meeting on Thailand&#39\;s 20-Year National Strategy and Collaboration with International Development Partners.</li>\n	<li>The AMCHAM Road Safety Campaign.</li>\n	<li>Other matters.</li>\n</ul>\nAll AMCHAM members are welcome to attend our Government Affairs Council meetings to stay abreast of the policy priorities that AMCHAM advocates for on behalf of our members. Advance registration is necessary\, as we do not accept walk-ins or non-member guests for these meetings.\n\n<p>Membership in the AMCHAM Thailand Government Affairs Council is open to managers of government relations and public affairs of AMCHAM Thailand corporate members and other government affairs professionals in Thailand.<br />\n<br />\nTo continue to receive updates on our advocacy meetings and activities\, or to request to join the Council\, please contact <a href="mailto:kittie@amchamthailand.com">kittie@amchamthailand.com</a>.</p>\n
LOCATION:AMCHAM Office\, Citi Boardroom BTS: Ploenchit
UID:e.3314.398
SEQUENCE:3
DTSTAMP:20260423T105621Z
URL:http://www.connect.amchamthailand.com/events/details/government-affairs-council-october-meeting-10-10-2019-398
END:VEVENT

END:VCALENDAR
