BEGIN:VCALENDAR
VERSION:2.0
PRODID:-//ChamberMaster//Event Calendar 2.0//EN
METHOD:PUBLISH
X-PUBLISHED-TTL:P3D
REFRESH-INTERVAL:P3D
CALSCALE:GREGORIAN
BEGIN:VEVENT
DTSTART:20200924T020000Z
DTEND:20200924T033000Z
X-MICROSOFT-CDO-ALLDAYEVENT:FALSE
SUMMARY:Government Affairs Council: September 2020 Video Conference
DESCRIPTION:The Government Affairs Council will convene via Video Conference on September 24 with the following agenda:\n\n\n	The Government Affairs and Public Policy Report: September 2020.\n	Summary of AMCHAM meeting with Director-General of the Excise Department.\n	Summary of AMCHAM meeting with Director-General of the Department of Intellectual Property\n	Summary of AMCHAM meeting with Principle Advisor of the Customs Department.\n	Summary of AMCHAM meeting with Minister of Tourism and Sports.\n	Members' issues for discussion.\n	Other matters.\n\nAll AMCHAM members are welcome to attend the Government Affairs Council meetings to stay abreast of the policy priorities that AMCHAM advocates for on behalf of members. Advance registration is necessary\, as we do not accept walk-ins or non-member guests for these meetings.\n\n\n\nMembership in the AMCHAM Thailand Government Affairs Council is open to managers of government relations and public affairs of AMCHAM Thailand member companies.\n\n\n\nTo continue to receive updates on our advocacy meetings and activities\, or to request to join the Council\, please contact kittie@amchamthailand.com.
X-ALT-DESC;FMTTYPE=text/html:<p>The Government Affairs Council will convene via Video Conference on September 24&nbsp\;with the following agenda:</p>\n\n<ul>\n	<li>The Government Affairs and Public Policy Report: September 2020.</li>\n	<li>Summary of AMCHAM meeting with Director-General&nbsp\;of the Excise Department.</li>\n	<li>Summary of AMCHAM meeting with Director-General of the Department of Intellectual Property</li>\n	<li>Summary of AMCHAM meeting with Principle Advisor&nbsp\;of the Customs Department.</li>\n	<li>Summary of AMCHAM meeting with Minister of Tourism and Sports.</li>\n	<li>Members&#39\;&nbsp\;issues for discussion.</li>\n	<li>Other matters.</li>\n</ul>\nAll AMCHAM members are welcome to attend the Government Affairs Council meetings to stay abreast of the policy priorities that AMCHAM advocates for on behalf of members. Advance registration is necessary\, as we do not accept walk-ins or non-member guests for these meetings.<br />\n<br />\nMembership in the AMCHAM Thailand Government Affairs Council is open to managers of government relations and public affairs of AMCHAM Thailand member companies.<br />\n<br />\nTo continue to receive updates on our advocacy meetings and activities\, or to request to join the Council\, please contact <a href="mailto:kittie@amchamthailand.com">kittie@amchamthailand.com</a>.
LOCATION:Video Conference
UID:e.3314.1556
SEQUENCE:3
DTSTAMP:20260422T130406Z
URL:http://www.connect.amchamthailand.com/events/details/government-affairs-council-september-2020-video-conference-1556
END:VEVENT

END:VCALENDAR
