BEGIN:VCALENDAR
VERSION:2.0
PRODID:-//ChamberMaster//Event Calendar 2.0//EN
METHOD:PUBLISH
X-PUBLISHED-TTL:P3D
REFRESH-INTERVAL:P3D
CALSCALE:GREGORIAN
BEGIN:VEVENT
DTSTART:20230913T020000Z
DTEND:20230913T030000Z
X-MICROSOFT-CDO-ALLDAYEVENT:FALSE
SUMMARY:Government Affairs Council: September 2023 Video Conference
DESCRIPTION:The Government Affairs Council will convene virtually on September 13. The meeting agenda will be updated.\n\n \n\nAll AMCHAM members are welcome to attend the Government Affairs Council meetings to stay abreast of the policy priorities that AMCHAM advocates for on behalf of members. Advance registration is necessary.\n\n \n\nMembership in the AMCHAM Thailand Government Affairs Council is open to managers of government relations and public affairs of AMCHAM Thailand member companies.\n\n\n\nThe agenda of the meeting is as follows:\n\n\n	Important Developments\n	\n		New government \n		Government Policies Declaration to the Parliament \n		\n			Challenges for Thailand\n			Proposed solutions\n		\n		\n		ICT Working Group \n		Recommendations for the Draft Sustainable Packaging Management Promotion Act \n		Third APEC Senior Officials Meeting (SOM3) and Third APEC Business Advisory Council (ABAC III) Meeting Debrief \n	\n	\n	Government Engagements\n	\n		August 30   Meeting with TDRI \n	\n	\n	Council Matters\n	\n		Customs and Excise Council \n		ESG Council \n		Healthcare Council \n	\n	\n	Upcoming Engagements with the government
X-ALT-DESC;FMTTYPE=text/html:<p>The Government Affairs Council will convene virtually on September 13. The meeting agenda will be updated.<br color:="" font-size:="" open="" />\n&nbsp\;<br color:="" font-size:="" open="" />\nAll AMCHAM members are welcome to attend the Government Affairs Council meetings to stay abreast of the policy priorities that AMCHAM advocates for on behalf of members. Advance registration is necessary.<br color:="" font-size:="" open="" />\n&nbsp\;<br color:="" font-size:="" open="" />\nMembership in the AMCHAM Thailand Government Affairs Council is open to managers of government relations and public affairs of AMCHAM Thailand member companies.<br color:="" font-size:="" open="" />\n<br />\nThe agenda of the meeting is as follows:</p>\n\n<ul>\n	<li>Important Developments\n	<ul>\n		<li>New government&nbsp\;</li>\n		<li>Government Policies Declaration to the Parliament&nbsp\;\n		<ul>\n			<li>Challenges for Thailand</li>\n			<li>Proposed solutions</li>\n		</ul>\n		</li>\n		<li>ICT Working Group&nbsp\;</li>\n		<li>Recommendations for the Draft Sustainable Packaging Management Promotion Act&nbsp\;</li>\n		<li>Third APEC Senior Officials Meeting (SOM3) and Third APEC Business Advisory Council (ABAC III) Meeting Debrief&nbsp\;</li>\n	</ul>\n	</li>\n	<li>Government Engagements\n	<ul>\n		<li>August 30 &ndash\; Meeting with TDRI&nbsp\;</li>\n	</ul>\n	</li>\n	<li>Council Matters\n	<ul>\n		<li>Customs and Excise Council&nbsp\;</li>\n		<li>ESG Council&nbsp\;</li>\n		<li>Healthcare Council&nbsp\;</li>\n	</ul>\n	</li>\n	<li>Upcoming Engagements with the government&nbsp\;</li>\n</ul>\n
LOCATION:Video conference
UID:e.3314.2438
SEQUENCE:3
DTSTAMP:20260419T201946Z
URL:http://www.connect.amchamthailand.com/events/details/government-affairs-council-september-2023-video-conference-2438
END:VEVENT

END:VCALENDAR
