BEGIN:VCALENDAR
VERSION:2.0
PRODID:-//ChamberMaster//Event Calendar 2.0//EN
METHOD:PUBLISH
X-PUBLISHED-TTL:P3D
REFRESH-INTERVAL:P3D
CALSCALE:GREGORIAN
BEGIN:VEVENT
DTSTART:20190430T030000Z
DTEND:20190430T043000Z
X-MICROSOFT-CDO-ALLDAYEVENT:FALSE
SUMMARY:Government Affairs Council: Updating the AMCHAM White Paper on Thailand 4.0
DESCRIPTION:The Government Affairs Council will discuss the first draft of the AMCHAM White Paper on Thailand 4.0 and is seeking input from Committee Leaders. The updated Paper is to be presented to the new Thai government\, tentatively scheduled to assume office by June 2019. The purpose of this Paper is to outline an array of issues and suggest "quick wins" that the new government and AMCHAM can collaborate on in the year ahead. Our expectation is that the document serves as a basis of discussion during courtesy calls with new (or returning) Ministers and senior civil servants. On this occasion we are aiming to limit the document to 5 pages. Unfortunately\, we may not be able to incorporate all member-specific issues into the Paper\, but our intention is to raise additional member input during face-to-face engagements.\n\n\n\nThe Government Affairs Council has identified 4 sectors which are likely to be best received by the incoming government:\n\n	Healthcare\n	Digital Economy\n	SME\n	EEC\n\nWe have already written to the relevant committees above to request their feedback. For this meeting we would like to invite all committee leaders and government affairs representatives to our office for a discussion on the issues at hand.
X-ALT-DESC;FMTTYPE=text/html:The Government Affairs Council will discuss the first draft of the AMCHAM White Paper on Thailand 4.0 and is seeking input from Committee Leaders.&nbsp\;The updated Paper is to be presented to the new Thai government\, tentatively scheduled to assume office by June 2019. The purpose of this Paper is to outline an array of issues and suggest &ldquo\;quick wins&rdquo\; that the new government and AMCHAM can collaborate on in the year ahead. Our expectation is that the document serves as a basis of discussion during courtesy calls with new (or returning) Ministers and senior civil servants. On this occasion we are aiming to limit the document to 5 pages. Unfortunately\, we may not be able to incorporate all member-specific issues into the Paper\, but our intention is to raise additional member input during face-to-face engagements.<br />\n<br />\nThe Government Affairs Council has identified 4 sectors which are likely to be best received by the incoming government:\n<ul>\n	<li>Healthcare</li>\n	<li>Digital Economy</li>\n	<li>SME</li>\n	<li>EEC</li>\n</ul>\nWe have already written to the relevant committees above to request their feedback. For this meeting we would like to invite all committee leaders and government affairs representatives to our office for a discussion on the issues at hand.
LOCATION:AMCHAM Office\, Citi Boardroom BTS: Ploenchit
UID:e.3314.293
SEQUENCE:3
DTSTAMP:20260423T203741Z
URL:http://www.connect.amchamthailand.com/events/details/government-affairs-council-updating-the-amcham-white-paper-on-thailand-4-0-293
END:VEVENT

END:VCALENDAR
