BEGIN:VCALENDAR
VERSION:2.0
PRODID:-//ChamberMaster//Event Calendar 2.0//EN
METHOD:PUBLISH
X-PUBLISHED-TTL:P3D
REFRESH-INTERVAL:P3D
CALSCALE:GREGORIAN
BEGIN:VEVENT
DTSTART:20220429T090000Z
DTEND:20220429T100000Z
X-MICROSOFT-CDO-ALLDAYEVENT:FALSE
SUMMARY:GTCC Multi-Chamber Eastern Seaboard Seminar "Tax updates and transfer pricing in Thailand"
DESCRIPTION:REGISTER NOW\n\nOur popular webinar on taxation is back and will be presented at the eastern seaboard. There have been a number of recent changes in taxation which pose significant challenges to the international business community in Thailand. Make 2022 a good year with the most up-to-date information on essential taxation topics.\n\n \n\nThe tax director and head of the German desk at Mazars in Thailand\, Mr. Martin Liebenow\, will provide updates on various taxation issues\, as well as more detailed information on transfer pricing.\n\n\n\nOur speaker:\n\nMartin Liebenow\, Tax Director of Mazars (Thailand) Ltd.\n\n \n\n\n	Only limited number of fully-vaccinated guests are allowed. Vaccination certificate is required to complete booking.\n	Home-use negative ATK test result conducted within 24 hrs. is required as a proof upon the arrival.\n	Participants are suggested to wear face mask during seminar session.\n	Prepayment is required to secure the registration.\n	This seminar will be followed by GTCC Multi-Chamber Eastern Seaboard Networking which is subject to an additional fee: Baht 800 for GTCC members and co-chamber members / Baht 1\,500 for non-members of GTCC and co-chamber members. Guests joining the ESB networking later\, will have a mandatory on-site ATK test by nurses.\n\n\nFor further queries on this event\, please do not hesitate to contact us at Email: communications@gtcc.org
X-ALT-DESC;FMTTYPE=text/html:<p><a href="https://app.glueup.com/event/53792/"><span style="font-size:12px\;"><span style="font-family:arial\;"><strong><span style="color:#000080\;">REGISTER NOW</span></strong></span></span></a></p>\n\n<p style="margin: 0px\; padding: 0px\;">Our popular webinar on taxation is back and will be presented at the eastern seaboard. There have been a number of recent changes in taxation which pose significant challenges to the international business community in Thailand. Make 2022 a good year with the most up-to-date information on essential taxation topics.</p>\n\n<p style="margin: 0px\; padding: 0px\;">&nbsp\;</p>\n\n<p style="margin: 0px\; padding: 0px\;">The tax director and head of the German desk at Mazars in Thailand\, Mr. Martin Liebenow\, will provide updates on various taxation issues\, as well as more detailed information on transfer pricing.<br />\n<br />\n<strong>Our speaker:</strong><br />\nMartin Liebenow\, Tax Director&nbsp\;of&nbsp\;Mazars (Thailand) Ltd.<br />\n&nbsp\;</p>\n\n<ul>\n	<li>Only limited number of fully-vaccinated guests are allowed. Vaccination certificate is required to complete booking.</li>\n	<li>Home-use negative ATK test result conducted within 24 hrs. is required as a proof upon the arrival.</li>\n	<li>Participants are suggested to wear face mask during seminar session.</li>\n	<li>Prepayment is required to secure the registration.</li>\n	<li>This seminar will be followed by&nbsp\;<a href="https://app.glueup.com/event/gtcc-multi-chamber-eastern-seaboard-networking-53172/">GTCC Multi-Chamber Eastern Seaboard Networking</a>&nbsp\;which is subject to an additional fee: Baht 800 for GTCC members and co-chamber members / Baht 1\,500 for non-members of GTCC and co-chamber members. Guests joining the ESB networking later\, will have a mandatory on-site ATK test by nurses.</li>\n</ul>\n\n<p apple="" background-color:="" cordia="" font-size:="" helvetica="" microsoft="" myanmar="" p="" pingfang="">For further queries on this event\, please do not hesitate to contact us at Email:&nbsp\;<a href="mailto:communications@gtcc.org">communications@gtcc.org</a></p>\n\n<p style="margin: 0px\; padding: 0px\;">&nbsp\;</p>\n
LOCATION:Marble room\, Renaissance Pattaya Resort & Spa
UID:e.3314.2201
SEQUENCE:3
DTSTAMP:20260421T012647Z
URL:http://www.connect.amchamthailand.com/events/details/gtcc-multi-chamber-eastern-seaboard-seminar-tax-updates-and-transfer-pricing-in-thailand-2201
END:VEVENT

END:VCALENDAR
