BEGIN:VCALENDAR
VERSION:2.0
PRODID:-//ChamberMaster//Event Calendar 2.0//EN
METHOD:PUBLISH
X-PUBLISHED-TTL:P3D
REFRESH-INTERVAL:P3D
CALSCALE:GREGORIAN
BEGIN:VEVENT
DTSTART:20191026T113000Z
DTEND:20191026T165500Z
X-MICROSOFT-CDO-ALLDAYEVENT:FALSE
SUMMARY:GTCC Oktoberfest 2019 – International Night at Bangkok Marriott Marquis Queen's Park
DESCRIPTION:GTCC's most anticipated annual celebrations is coming up once again! We are excited to cordially invite you and your friends to join GTCC Oktoberfest 2019 "International Night"\n\nGTCC Oktoberfest is the one and only AUTHENTIC GERMAN EXPERIENCE you could find in Thailand. It features live entertainment from Germany in the original atmosphere with wooden Festzelt-benches\, men and women in traditional Bavarian outfits\, a wide range of festive German feasts\, and the genuine Paulaner Oktoberfest Beer as well as an after-party with live DJ to exclusively deliver you the best Oktoberfest experience.\n\n \n\nFor further inquiries please contact us at Tel: 02-055-0620 or email: communications@gtcc.org
X-ALT-DESC;FMTTYPE=text/html:<p>GTCC&#39\;s most anticipated annual celebrations is coming up once again!&nbsp\;We are excited to cordially invite you and your friends to join GTCC Oktoberfest 2019 &quot\;International Night&quot\;</p>\n\n<p>GTCC Oktoberfest is the one and only AUTHENTIC GERMAN EXPERIENCE you could find in Thailand. It features live entertainment from Germany in the original atmosphere with wooden Festzelt-benches\, men and women in traditional Bavarian outfits\, a wide range of festive German feasts\, and the genuine Paulaner Oktoberfest Beer as well as an after-party with live DJ to exclusively deliver you the best Oktoberfest experience.</p>\n\n<p>&nbsp\;</p>\n\n<p>For further inquiries please contact us at Tel: 02-055-0620 or email:&nbsp\;<a href="file:///C:/Users/chadaphan/AppData/Local/Temp/FFPreview/html.mus/akt/home.htm?DSN=AC2F7D64-7D38-414E-A924-5077F347AB1B&amp\;TABELLE=AKT#" target="_blank">communications@gtcc.org&#8203\;</a></p>\n
LOCATION:Bangkok Marriott Marquis Queen's Park\, Grand Ballroom
UID:e.3314.402
SEQUENCE:3
DTSTAMP:20260423T092720Z
URL:http://www.connect.amchamthailand.com/events/details/gtcc-oktoberfest-2019-international-night-at-bangkok-marriott-marquis-queen-s-park-402
END:VEVENT

END:VCALENDAR
