BEGIN:VCALENDAR
VERSION:2.0
PRODID:-//ChamberMaster//Event Calendar 2.0//EN
METHOD:PUBLISH
X-PUBLISHED-TTL:P3D
REFRESH-INTERVAL:P3D
CALSCALE:GREGORIAN
BEGIN:VEVENT
DTSTART:20190321T050000Z
DTEND:20190321T063000Z
X-MICROSOFT-CDO-ALLDAYEVENT:FALSE
SUMMARY:Healthcare Committee: Kick Off Meeting for 2019
DESCRIPTION:Do you see yourself/your business a part of the future Medical Hub in Thailand?\n\n \n\nIf the answer is YES\, you are welcome to join our Healthcare Committee working meeting on March 21st to share your ideas and feedback on how the international business community can further this vision. Together we plan to articulate key objectives and engage closely with relevant ministries of the Thai government to achieve optimal outcomes for medical and related industries in Thailand. All you need to bring are your ideas and willingness to contribute throughout what promises to be an exciting year.\n\n\n\nBy the end of the meeting\, we expect to outline a solid plan for Heathcare Committee activities and advocacy targets in 2019.  \n\n \n\n2019 Committee Mission & Focus:\n\n \n\nThe Healthcare Committee provides a forum for AMCHAM member companies to discuss resolutions to current issues related to the pharmaceutical and healthcare industries. We aim to raise awareness and actively advocate for all relevant healthcare policies and regulations designed to improve Thailand's healthcare environment\, with special focus on the themes of building a Medical Hub under Thailand 4.0 and preparing for an Aging Society.\n\n\n\nThis year\, we are calling for committee participation from all relevant member companies\, including but not limited to pharmaceutical companies\, healthcare product suppliers\, private hospitals\, medical device manufacturers\, insurance companies and more.
X-ALT-DESC;FMTTYPE=text/html:<span style="font-size:14px\;"><span style="font-family:arial\;">Do you see yourself/your business a part of the future&nbsp\;<strong>Medical Hub in Thailand?</strong><br />\n&nbsp\;<br />\nIf the answer is YES\, you are welcome to join our Healthcare Committee working meeting on March 21st to share your ideas and feedback on how the international business community can further this vision. Together we plan to articulate key objectives and engage closely with relevant ministries of the Thai government to achieve optimal outcomes for medical and related industries in Thailand.&nbsp\;</span></span><span style="font-family: arial\; font-size: 14px\;">All you need to bring are your ideas and willingness to contribute throughout what promises to be an exciting year.</span><br />\n<br />\n<span style="font-size:14px\;"><span style="font-family:arial\;">By the end of the meeting\, we expect to outline a solid plan for Heathcare Committee activities and advocacy targets in 2019.&nbsp\;&nbsp\;<br />\n&nbsp\;<br />\n<strong>2019 Committee Mission &amp\; Focus:</strong><br />\n&nbsp\;<br />\nThe Healthcare Committee provides a forum for AMCHAM member companies to discuss resolutions to current issues related to the pharmaceutical and healthcare industries. We aim to raise awareness and actively advocate for all relevant healthcare policies and regulations designed to improve Thailand&rsquo\;s healthcare environment\, with special focus on the themes of building a Medical Hub under Thailand 4.0 and preparing for an Aging Society.<br />\n<br />\nThis year\, we are calling for committee participation from all relevant member companies\, including but not limited to pharmaceutical companies\, healthcare product suppliers\, private hospitals\, medical device manufacturers\, insurance companies and more.</span></span>
LOCATION:AMCHAM Office\, Citi Boardroom (7th floor) Nearest BTS: Ploenchit
UID:e.3314.229
SEQUENCE:3
DTSTAMP:20260423T203516Z
URL:http://www.connect.amchamthailand.com/events/details/healthcare-committee-kick-off-meeting-for-2019-229
END:VEVENT

END:VCALENDAR
