BEGIN:VCALENDAR
VERSION:2.0
PRODID:-//ChamberMaster//Event Calendar 2.0//EN
METHOD:PUBLISH
X-PUBLISHED-TTL:P3D
REFRESH-INTERVAL:P3D
CALSCALE:GREGORIAN
BEGIN:VEVENT
DTSTART:20200217T050000Z
DTEND:20200217T060000Z
X-MICROSOFT-CDO-ALLDAYEVENT:FALSE
SUMMARY:Healthcare Council: 2020 Planning Meeting
DESCRIPTION:Since 2019\, we make clear that Medical Hub was healthcare committee's direction\, but what exactly the road and direction to make Thailand toward this aspiration is remained questionable for many of us?\n\n\n\nBesides\, repeated challenge Thailand has faced by air quality along with significantly reducing number of tourists from coronavirus epidemic since beginning of this year\, how Thailand can hold on to the Medical Hub aspiration in such a challenged situation. Or\, will medical marijuana legalization by Thailand Ministry of Public Health could possibly be a new attractive way for Thailand to become "Medical Hub"? These are the questions for the committees to go tackling with key stakeholders while we will be keeping AMCHAM stance toward innovative & modern technology treatment with excellent service as the key element that make Thailand differentiate itself and become the successful medical hub & medical tourism destination among the region.\n\n\n\nOn February 17 at 12.00 - 13.00 hrs.\, we will open for idea to discuss from members who both directly and indirectly relate & interest to healthcare sector. Not only\, we would like to prioritize stakeholders under "Medical Hub" who for us aim to advocate and understand them more on Thailand Medical Hub direction but we would also like to hear your thought around approach & event format for us to pick and make them become highlighted activities for 2020.
X-ALT-DESC;FMTTYPE=text/html:Since 2019\, we make clear that Medical Hub was healthcare committee&#39\;s direction\, but what exactly the road and direction to make Thailand toward this aspiration is remained questionable for many of us?<br />\n<br />\nBesides\, repeated challenge Thailand has faced by air quality along with significantly reducing number of tourists from coronavirus epidemic since beginning of this year\, how Thailand can hold on to the Medical Hub aspiration in such a challenged situation. Or\, will medical marijuana legalization by Thailand Ministry of Public Health could possibly be a new attractive way for Thailand to become &quot\;Medical Hub&quot\;? These are the questions for the committees to go tackling with key stakeholders while we will be keeping AMCHAM stance toward innovative &amp\; modern technology treatment with excellent service as the key element that make Thailand differentiate itself and become the successful medical hub &amp\; medical tourism destination among the region.<br />\n<br />\nOn February 17 at 12.00 - 13.00 hrs.\, we will open for idea to discuss from members who both directly and indirectly relate &amp\; interest to healthcare sector. Not only\, we would like to prioritize stakeholders under &quot\;Medical Hub&quot\; who for us aim to advocate and understand them more on Thailand Medical Hub direction but we would also like to hear your thought around approach &amp\; event format for us to pick and make them become highlighted activities for 2020.
LOCATION:AMCHAM Office\, Citi Boardroom (7th floor) Nearest BTS: Ploenchit
UID:e.3314.1507
SEQUENCE:3
DTSTAMP:20260423T040002Z
URL:http://www.connect.amchamthailand.com/events/details/healthcare-council-2020-planning-meeting-1507
END:VEVENT

END:VCALENDAR
