BEGIN:VCALENDAR
VERSION:2.0
PRODID:-//ChamberMaster//Event Calendar 2.0//EN
METHOD:PUBLISH
X-PUBLISHED-TTL:P3D
REFRESH-INTERVAL:P3D
CALSCALE:GREGORIAN
BEGIN:VEVENT
DTSTART:20220805T020000Z
DTEND:20220805T030000Z
X-MICROSOFT-CDO-ALLDAYEVENT:FALSE
SUMMARY:Healthcare Council: Aug 2022 Video Conference
DESCRIPTION:Please join us for the Healthcare Council planning meeting on Aug 5.\n\n\n\nAMCHAM's Healthcare Council would like to invite interested members to join our discussion and work together to introduce advocacy issues to be put forward through our government engagements and for APEC's priorities for the healthcare sector. In addition to the potential issues\, defining government stakeholders and engagement activities will be discussed.
X-ALT-DESC;FMTTYPE=text/html:Please join us for the Healthcare Council planning meeting on Aug 5.<br />\n<br />\nAMCHAM&rsquo\;s Healthcare Council would like to invite interested members to join our discussion and work together to introduce advocacy issues to be put forward through our government engagements and for APEC&rsquo\;s priorities for the healthcare sector. In addition to the potential issues\, defining government stakeholders and engagement activities will be discussed.
LOCATION:Video Conference
UID:e.3314.2255
SEQUENCE:3
DTSTAMP:20260420T200917Z
URL:http://www.connect.amchamthailand.com/events/details/healthcare-council-aug-2022-video-conference-2255
END:VEVENT

END:VCALENDAR
