BEGIN:VCALENDAR
VERSION:2.0
PRODID:-//ChamberMaster//Event Calendar 2.0//EN
METHOD:PUBLISH
X-PUBLISHED-TTL:P3D
REFRESH-INTERVAL:P3D
CALSCALE:GREGORIAN
BEGIN:VEVENT
DTSTART:20230828T020000Z
DTEND:20230828T030000Z
X-MICROSOFT-CDO-ALLDAYEVENT:FALSE
SUMMARY:Healthcare Council: August 2023 Video Conference
DESCRIPTION:The Healthcare Council gathers industry stakeholders\, including hospitals\, pharmaceuticals\, medical devices\, insurers and other interested companies to discuss current issues affecting the industry\, find solutions\, and collaborate on advocacy and programming initiatives.\n\n\n\nThe next Healthcare Council meeting will convene virtually on August 28. The meeting agenda is as follows: \n\n	Significant Update from PReMA\n	\n		Introducing the new CEO of PReMA\, Nuntivat (Ed) Thamhatai\n		Introduction to Frost and Sullivan Publication "Health is Wealth: Transforming Biopharmaceutical Innovation to Drive Sustainable Economic Growth" by Dr. Kittima Sriwatanakul\, PReMA. \n	\n	\n	Update on AMCHAM healthcare paper\n	Update on collaboration with USTDA\n	Update on collaboration with BMA\n	New government formation: possibility to connect with healthcare-related government agencies.\n	Other matters\n\nPlease note that all AMCHAM members are welcome to join Council Meetings. If you would like more information on activities of the Healthcare Council\, please contact bonus@amchamthailand.com.
X-ALT-DESC;FMTTYPE=text/html:The Healthcare Council gathers industry stakeholders\, including hospitals\, pharmaceuticals\, medical devices\, insurers and other interested companies to discuss current issues affecting the industry\, find solutions\, and collaborate on advocacy and programming initiatives.<br />\n<br />\nThe next Healthcare Council meeting will convene virtually on August 28. The meeting agenda is as follows:&nbsp\;\n<ol>\n	<li>Significant Update from PReMA\n	<ul>\n		<li>Introducing the new CEO of PReMA\, <a href="https://www.linkedin.com/in/nuntivat-thamhatai-27650825/">Nuntivat (Ed) Thamhatai</a></li>\n		<li>Introduction to Frost and Sullivan Publication&nbsp\;&ldquo\;Health is Wealth: Transforming Biopharmaceutical Innovation to Drive Sustainable Economic Growth&rdquo\; by <a href="https://www.linkedin.com/in/kittima-sriwatanakul-a61738a/">Dr. Kittima Sriwatanakul</a>\, PReMA.&nbsp\;</li>\n	</ul>\n	</li>\n	<li>Update on AMCHAM healthcare paper</li>\n	<li>Update on collaboration with USTDA</li>\n	<li>Update on collaboration with BMA</li>\n	<li>New government formation: possibility to connect with healthcare-related government agencies.</li>\n	<li>Other matters</li>\n</ol>\nPlease note that all AMCHAM members are welcome to join Council Meetings. If you would like more information on activities of the Healthcare Council\, please contact bonus@amchamthailand.com.<span style="font-family:arial\,sans-serif\;"><span style="font-size:10pt\;"><span style="background-image:initial\;background-position:initial\;background-size:initial\;background-repeat:initial\;background-attachment:initial\;background-origin:initial\;background-clip:initial\;">&nbsp\; &nbsp\;</span></span></span><br />\n&nbsp\;
LOCATION:Online videoconference
UID:e.3314.2590
SEQUENCE:3
DTSTAMP:20260419T202106Z
URL:http://www.connect.amchamthailand.com/events/details/healthcare-council-august-2023-video-conference-2590
END:VEVENT

END:VCALENDAR
