BEGIN:VCALENDAR
VERSION:2.0
PRODID:-//ChamberMaster//Event Calendar 2.0//EN
METHOD:PUBLISH
X-PUBLISHED-TTL:P3D
REFRESH-INTERVAL:P3D
CALSCALE:GREGORIAN
BEGIN:VEVENT
DTSTART:20230227T020000Z
DTEND:20230227T030000Z
X-MICROSOFT-CDO-ALLDAYEVENT:FALSE
SUMMARY:Healthcare Council: Feb 2023 Video Conference
DESCRIPTION:The Healthcare Council will convene virtually on February 27. \n\nAgenda includes: \n\n	Finalizing mission statement \n	Prioritise Healthcare Council activities \n	Review AMCHAM's Healthcare Position Paper \n\nPlease note that all AMCHAM members are welcome to join Council Meetings. If you would like more information on the activities of the Healthcare Council\, please contact bonus@amchamthailand.com.
X-ALT-DESC;FMTTYPE=text/html:The Healthcare Council will convene virtually on February 27.&nbsp\;<br />\n<span style="font-family:open sans\,sans-serif\;">Agenda includes: </span>\n<ol>\n	<li style="margin-bottom:0in\;margin-left:0in\;"><span style="font-family:open sans\,sans-serif\;">Finalizing mission statement </span></li>\n	<li style="margin-bottom:0in\;margin-left:0in\;"><span style="font-family:open sans\,sans-serif\;">Prioritise Healthcare Council activities </span></li>\n	<li style="margin-bottom:0in\;margin-left:0in\;"><span style="font-family:open sans\,sans-serif\;">Review AMCHAM&rsquo\;s Healthcare Position Paper&nbsp\;</span></li>\n</ol>\nPlease note that all AMCHAM members are welcome to join Council Meetings. If you would like more information on the activities of the Healthcare Council\, please contact bonus@amchamthailand.com<span font-size:="" open="" style="color: rgb(68\, 68\, 68)\; font-family: ">.&nbsp\;</span><span font-size:="" open="" style="color: rgb(68\, 68\, 68)\; font-family: ">&nbsp\;</span>
LOCATION:Online videoconference
UID:e.3314.2489
SEQUENCE:3
DTSTAMP:20260420T071605Z
URL:http://www.connect.amchamthailand.com/events/details/healthcare-council-feb-2023-video-conference-2489
END:VEVENT

END:VCALENDAR
