BEGIN:VCALENDAR
VERSION:2.0
PRODID:-//ChamberMaster//Event Calendar 2.0//EN
METHOD:PUBLISH
X-PUBLISHED-TTL:P3D
REFRESH-INTERVAL:P3D
CALSCALE:GREGORIAN
BEGIN:VEVENT
DTSTART:20230130T030000Z
DTEND:20230130T040000Z
X-MICROSOFT-CDO-ALLDAYEVENT:FALSE
SUMMARY:Healthcare Council Meeting January 2023
DESCRIPTION:Join the Healthcare Council co-chairs to provide your opinions on the AMCHAM Healthcare Position Paper covering sustainable healthcare financing\, innovative healthcare financing\, and alternative funding to enhance the healthcare system in Thailand. At the meeting\, we will also discuss activities and government engagements as well as the council plan for 2023.
X-ALT-DESC;FMTTYPE=text/html:Join the Healthcare Council co-chairs to provide your opinions on the AMCHAM Healthcare Position Paper covering sustainable healthcare financing\, innovative healthcare financing\, and alternative funding to enhance the healthcare system in Thailand. At the meeting\, we will also discuss activities and government engagements as well as the council plan for 2023.&nbsp\;
LOCATION:Video Conference
UID:e.3314.2483
SEQUENCE:3
DTSTAMP:20260420T105602Z
URL:http://www.connect.amchamthailand.com/events/details/healthcare-council-meeting-january-2023-2483
END:VEVENT

END:VCALENDAR
