BEGIN:VCALENDAR
VERSION:2.0
PRODID:-//ChamberMaster//Event Calendar 2.0//EN
METHOD:PUBLISH
X-PUBLISHED-TTL:P3D
REFRESH-INTERVAL:P3D
CALSCALE:GREGORIAN
BEGIN:VEVENT
DTSTART:20231127T020000Z
DTEND:20231127T040000Z
X-MICROSOFT-CDO-ALLDAYEVENT:FALSE
SUMMARY:Healthcare Council: November 2023 Meeting
DESCRIPTION:During the previous Council meeting on October 31\, it was reported that the Thai government is now establishing an Ease of Doing Business Committee\, which presents a great opportunity for AMCHAM from the chairperson of the committee\, Dr. Thongtong Chandrangsu\, to advocate for our agenda. We highly value your opinions and expertise in shaping the standpoint and advocacy of AMCHAM's healthcare business.\n\n\n\nAs this is a crucial agenda that will lay the groundwork for the upcoming year\, AMCHAM Healthcare Council wishes to host an in-person Healthcare Council meeting on November 27.\n\n\n\nThe agenda will cover action items from the previous meeting and brainstorming for regulatory development in the healthcare sector's ease of doing business. Registrants of the meeting will receive a summary of the previous meeting and a detailed agenda before the meeting via email.\n\n\n\nPlease note that all AMCHAM members are welcome to join Council Meetings. If you would like more information on the activities of the Healthcare Council\, please contact bonus@amchamthailand.com.
X-ALT-DESC;FMTTYPE=text/html:During the previous Council meeting on October 31\, it was reported that the Thai government is now establishing an Ease of Doing Business Committee\, which presents a great opportunity for AMCHAM from the chairperson of the committee\, Dr. Thongtong Chandrangsu\, to advocate for our agenda. We highly value your opinions and expertise in shaping the standpoint and advocacy of AMCHAM&#39\;s healthcare business.<br />\n<br />\nAs this is a crucial agenda that will lay the groundwork for the upcoming year\, AMCHAM Healthcare Council wishes to host an in-person Healthcare Council meeting on November 27.<br />\n<br />\nThe agenda will cover action items from the previous meeting and brainstorming for regulatory development in the healthcare sector&#39\;s ease of doing business. Registrants of the meeting will receive a summary of the previous meeting and a detailed agenda before the meeting via email.<br />\n<br />\n<span style="font-family:arial\,sans-serif\;"><span style="font-size:10pt\;"><span style="background-image:initial\;background-position:initial\;background-size:initial\;background-repeat:initial\;background-attachment:initial\;background-origin:initial\;background-clip:initial\;">Please note that all AMCHAM members are welcome to join Council Meetings. If you would like more information on the activities of the Healthcare Council\, please contact bonus@amchamthailand.com.&nbsp\; &nbsp\;</span></span></span>
LOCATION:True Digital Park. BTS: Punnawithi (direct exit to True Digital Park) Boardroom\, 7th Floor\, Griffin Building
UID:e.3314.2593
SEQUENCE:3
DTSTAMP:20260419T170214Z
URL:http://www.connect.amchamthailand.com/events/details/healthcare-council-november-2023-meeting-2593
END:VEVENT

END:VCALENDAR
