BEGIN:VCALENDAR
VERSION:2.0
PRODID:-//ChamberMaster//Event Calendar 2.0//EN
METHOD:PUBLISH
X-PUBLISHED-TTL:P3D
REFRESH-INTERVAL:P3D
CALSCALE:GREGORIAN
BEGIN:VEVENT
DTSTART:20231030T020000Z
DTEND:20231030T030000Z
X-MICROSOFT-CDO-ALLDAYEVENT:FALSE
SUMMARY:Healthcare Council: October 2023 Video Conference
DESCRIPTION:The Healthcare Council gathers industry stakeholders\, including hospitals\, pharmaceuticals\, medical devices\, insurers and other interested companies to discuss current issues affecting the industry\, find solutions\, and collaborate on advocacy and programming initiatives.\n\n\n\nThe next Healthcare Council meeting will convene virtually on October 30. The meeting agenda will be updated shortly.\n\n\n\nPlease note that all AMCHAM members are welcome to join Council Meetings. If you would like more information on activities of the Healthcare Council\, please contact bonus@amchamthailand.com.
X-ALT-DESC;FMTTYPE=text/html:<span style="background-image:initial\;background-position:initial\;background-size:initial\;background-repeat:initial\;background-attachment:initial\;background-origin:initial\;background-clip:initial\;"><span style="font-family:arial\,sans-serif\;"><span style="font-size:10pt\;">The Healthcare Council gathers industry stakeholders\, including hospitals\, pharmaceuticals\, medical devices\, insurers and other interested companies to discuss current issues affecting the industry\, find solutions\, and collaborate on advocacy and programming initiatives.</span></span></span><br />\n<br />\n<span style="font-family:arial\,sans-serif\;"><span style="font-size:10pt\;"><span style="background-image:initial\;background-position:initial\;background-size:initial\;background-repeat:initial\;background-attachment:initial\;background-origin:initial\;background-clip:initial\;">The next Healthcare Council meeting will convene virtually on October 30. The meeting agenda will be updated shortly.</span><br color:="" font-size:="" open="" />\n<br color:="" font-size:="" open="" />\n<span style="background-image:initial\;background-position:initial\;background-size:initial\;background-repeat:initial\;background-attachment:initial\;background-origin:initial\;background-clip:initial\;">Please note that all AMCHAM members are welcome to join Council Meetings. If you would like more information on activities of the Healthcare Council\, please contact bonus@amchamthailand.com.&nbsp\; &nbsp\;</span></span></span>
LOCATION:Online videoconference
UID:e.3314.2592
SEQUENCE:3
DTSTAMP:20260419T183416Z
URL:http://www.connect.amchamthailand.com/events/details/healthcare-council-october-2023-video-conference-2592
END:VEVENT

END:VCALENDAR
