BEGIN:VCALENDAR
VERSION:2.0
PRODID:-//ChamberMaster//Event Calendar 2.0//EN
METHOD:PUBLISH
X-PUBLISHED-TTL:P3D
REFRESH-INTERVAL:P3D
CALSCALE:GREGORIAN
BEGIN:VEVENT
DTSTART:20211123T070000Z
DTEND:20211123T080000Z
X-MICROSOFT-CDO-ALLDAYEVENT:FALSE
SUMMARY:Healthcare Council Planning Meeting
DESCRIPTION:Healthcare Council is meeting to plan programming for 2022.
X-ALT-DESC;FMTTYPE=text/html:Healthcare Council is meeting to plan programming for 2022.&nbsp\;
LOCATION:Videoconference
UID:e.3314.2009
SEQUENCE:3
DTSTAMP:20260421T123756Z
URL:http://www.connect.amchamthailand.com/events/details/healthcare-council-planning-meeting-11-23-2021-2009
END:VEVENT

END:VCALENDAR
