BEGIN:VCALENDAR
VERSION:2.0
PRODID:-//ChamberMaster//Event Calendar 2.0//EN
METHOD:PUBLISH
X-PUBLISHED-TTL:P3D
REFRESH-INTERVAL:P3D
CALSCALE:GREGORIAN
BEGIN:VEVENT
DTSTART:20200924T070000Z
DTEND:20200924T083000Z
X-MICROSOFT-CDO-ALLDAYEVENT:FALSE
SUMMARY:Healthcare Council Planning Session: Experience Sharing and Innovation Policy Update from USPTO office
DESCRIPTION:With Covid-19 pandemic\, the healthcare industry has played an important part during this critical time in many aspects such as health services\, testing and medical supply\, treatment and prevention\, health insurance\, etc. A continuous experience sharing during this critical period is seen necessary for  to remain and grow business in the right direction. Besides\, the Council has invited a special guest from USPTO office\, U.S. Embassy Bangkok to share the development & direction of innovation-related policies as the result of collaborated work with the Thai government.\n\n \n\nOn Sep 24 at 2:00 - 3:30 pm\, healthcare council would like to invite members who directly and indirectly relate to and are interested in  joining the healthcare sector to share experience and have an open discussion. The council members will also share their experience driving the business through  Covid-19 pandemic. By participating in this session\, you can expect to hear and share business direction going forward along with insight from the government to help guide the outlook on healthcare landscape going forward.\n\n \n\nAgenda: \n\n- Experience sharing from council and member\n\n- Policy update from USPTO office\n\n- Council plan / activity \n\n- Open for discussion
X-ALT-DESC;FMTTYPE=text/html:<div>\n<div>With Covid-19 pandemic\, the healthcare industry has played an important part during this critical time in many aspects such as health services\, testing and&nbsp\;medical supply\, treatment and&nbsp\;prevention\, health insurance\, etc. A continuous experience sharing during this critical period is seen necessary for&nbsp\; to remain and grow business in the right direction. Besides\, the Council has invited a special guest from USPTO office\, U.S. Embassy Bangkok to share the development &amp\; direction of innovation-related policies as the result of collaborated work with the Thai government.</div>\n\n<div>&nbsp\;</div>\n\n<div>On Sep 24 at 2:00 -&nbsp\;3:30 pm\, healthcare council would like to invite members who directly and indirectly relate to and are interested in&nbsp\; joining the healthcare sector&nbsp\;to share experience and have an open discussion. The council members will also share their experience driving the business through&nbsp\; Covid-19 pandemic.&nbsp\;By participating in&nbsp\;this session\, you can&nbsp\;expect to hear and share business direction going forward along with insight from the government&nbsp\;to help guide the outlook&nbsp\;on healthcare landscape going forward.</div>\n\n<div>&nbsp\;</div>\n\n<div><strong>Agenda:</strong>&nbsp\;</div>\n\n<div>-<span style="white-space:pre"> </span>Experience sharing from council and member</div>\n\n<div>-<span style="white-space:pre"> </span>Policy update from USPTO office</div>\n\n<div>-<span style="white-space:pre"> </span>Council plan / activity&nbsp\;</div>\n\n<div>-<span style="white-space:pre"> </span>Open for discussion</div>\n</div>\n
LOCATION:Video Conference
UID:e.3314.1698
SEQUENCE:3
DTSTAMP:20260422T130406Z
URL:http://www.connect.amchamthailand.com/events/details/healthcare-council-planning-session-experience-sharing-and-innovation-policy-update-from-uspto-office-1698
END:VEVENT

END:VCALENDAR
