BEGIN:VCALENDAR
VERSION:2.0
PRODID:-//ChamberMaster//Event Calendar 2.0//EN
METHOD:PUBLISH
X-PUBLISHED-TTL:P3D
REFRESH-INTERVAL:P3D
CALSCALE:GREGORIAN
BEGIN:VEVENT
DTSTART:20200713T070000Z
DTEND:20200713T080000Z
X-MICROSOFT-CDO-ALLDAYEVENT:FALSE
SUMMARY:Healthcare Council Planning Session: Experience Sharing and What The Industry Will Be Like Post Covid-19
DESCRIPTION:With the covid-19 pandemic\, the healthcare industry has played an important role during this critical time in many aspects such as health services\, testing & medical supply\, treatment & prevention\, health insurance\, etc. Will the post covid-19 world change the direction of the healthcare landscape in Thailand? How has the healthcare industry prepared and adjusted the business for post covid-19 and lock down era?  \n\n \n\nOn July 13 at 2 pm\, AMCHAM's Healthcare Council invites members who directly and indirectly relate to & have interest in the healthcare sector to join this session for experience sharing and open discussion. The council members will also share their experience on driving the business through the pandemic and business direction going forward. Besides we will revisit the council plan for the rest of year to align with the new normal post covid-19.\n\n \n\nAgenda: \n\n- AMCHAM Position Paper   Better Than Before | Healthcare Section\n\n- Experience sharing from council and member\n\n- Council plan / activity for 2020\n\n- Open for discussion
X-ALT-DESC;FMTTYPE=text/html:<div>With the covid-19 pandemic\, the healthcare&nbsp\;industry has played an important role&nbsp\;during this critical time in many aspects such as health services\, testing &amp\; medical supply\, treatment &amp\; prevention\, health insurance\, etc. Will the post covid-19 world change the direction of the healthcare landscape in Thailand? How has the healthcare industry prepared and adjusted the business for post covid-19 and lock down era?&nbsp\;&nbsp\;</div>\n\n<div>&nbsp\;</div>\n\n<div>On July 13 at 2 pm\, AMCHAM&#39\;s Healthcare Council invites members who directly and indirectly relate to &amp\; have interest in the healthcare sector to join this session for experience sharing&nbsp\;and open&nbsp\;discussion. The council members will also share their experience on driving the business through the&nbsp\;pandemic and business direction going forward.&nbsp\;Besides we will revisit the council plan for the rest of year to align with the new normal post covid-19.</div>\n\n<div>&nbsp\;</div>\n\n<div>Agenda:&nbsp\;</div>\n\n<div>-<span style="white-space:pre"> </span>AMCHAM Position Paper &ndash\; Better Than Before | Healthcare Section</div>\n\n<div>-<span style="white-space:pre"> </span>Experience sharing from council and member</div>\n\n<div>-<span style="white-space:pre"> </span>Council plan / activity for 2020</div>\n\n<div>-<span style="white-space:pre"> </span>Open for discussion</div>\n
LOCATION:Video Conference
UID:e.3314.1639
SEQUENCE:3
DTSTAMP:20260422T163454Z
URL:http://www.connect.amchamthailand.com/events/details/healthcare-council-planning-session-experience-sharing-and-what-the-industry-will-be-like-post-covid-19-1639
END:VEVENT

END:VCALENDAR
