BEGIN:VCALENDAR
VERSION:2.0
PRODID:-//ChamberMaster//Event Calendar 2.0//EN
METHOD:PUBLISH
X-PUBLISHED-TTL:P3D
REFRESH-INTERVAL:P3D
CALSCALE:GREGORIAN
BEGIN:VEVENT
DTSTART:20230925T020000Z
DTEND:20230925T030000Z
X-MICROSOFT-CDO-ALLDAYEVENT:FALSE
SUMMARY:Healthcare Council: September 2023 Video Conference
DESCRIPTION:The Healthcare Council gathers industry stakeholders\, including hospitals\, pharmaceuticals\, medical devices\, insurers and other interested companies to discuss current issues affecting the industry\, find solutions\, and collaborate on advocacy and programming initiatives.\n\n\n\nThe next Healthcare Council meeting will convene virtually on September 25.\n\nThe meeting agenda: \n\n1)         VAT issue for medical device raised by Tax Committee leader\, John Andes\n\n2)         Update on collaboration with USTDA: topic of workshop and other further updates\n\n3)         Update on AMCHAM healthcare paper\n\n4)         New government formation: issues for new government to focus and update from new government's policy declaration to the parliament\n\n5)         Other matters\n\n\n\nPlease note that all AMCHAM members are welcome to join Council Meetings. If you would like more information on activities of the Healthcare Council\, please contact bonus@amchamthailand.com.
X-ALT-DESC;FMTTYPE=text/html:<span style="background-image:initial\;background-position:initial\;background-size:initial\;background-repeat:initial\;background-attachment:initial\;background-origin:initial\;background-clip:initial\;"><span style="font-family:arial\,sans-serif\;"><span style="font-size:10pt\;">The Healthcare Council gathers industry stakeholders\, including hospitals\, pharmaceuticals\, medical devices\, insurers and other interested companies to discuss current issues affecting the industry\, find solutions\, and collaborate on advocacy and programming initiatives.</span></span></span><br />\n<br />\n<span style="font-family:arial\,sans-serif\;"><span style="font-size:10pt\;"><span style="background-image:initial\;background-position:initial\;background-size:initial\;background-repeat:initial\;background-attachment:initial\;background-origin:initial\;background-clip:initial\;">The next Healthcare Council meeting will convene virtually on September 25.<br />\nThe meeting agenda:&nbsp\;</span></span></span><br />\n1)&nbsp\;&nbsp\;&nbsp\;&nbsp\;&nbsp\;&nbsp\;&nbsp\;&nbsp\; VAT issue for medical device raised by Tax Committee leader\, John Andes<br />\n2)&nbsp\;&nbsp\;&nbsp\;&nbsp\;&nbsp\;&nbsp\;&nbsp\;&nbsp\; Update on collaboration with USTDA: topic of workshop and other further updates<br />\n3)&nbsp\;&nbsp\;&nbsp\;&nbsp\;&nbsp\;&nbsp\;&nbsp\;&nbsp\; Update on AMCHAM healthcare paper<br />\n4)&nbsp\;&nbsp\;&nbsp\;&nbsp\;&nbsp\;&nbsp\;&nbsp\;&nbsp\; New government formation: issues for new government to focus and update from new government&rsquo\;s policy declaration to the parliament<br />\n5)&nbsp\;&nbsp\;&nbsp\;&nbsp\;&nbsp\;&nbsp\;&nbsp\;&nbsp\; Other matters<br color:="" font-size:="" open="" />\n<br color:="" font-size:="" open="" />\n<span style="font-family:arial\,sans-serif\;"><span style="font-size:10pt\;"><span style="background-image:initial\;background-position:initial\;background-size:initial\;background-repeat:initial\;background-attachment:initial\;background-origin:initial\;background-clip:initial\;">Please note that all AMCHAM members are welcome to join Council Meetings. If you would like more information on activities of the Healthcare Council\, please contact bonus@amchamthailand.com.&nbsp\; &nbsp\;</span></span></span>
LOCATION:Online videoconference
UID:e.3314.2591
SEQUENCE:3
DTSTAMP:20260419T183446Z
URL:http://www.connect.amchamthailand.com/events/details/healthcare-council-september-2023-video-conference-2591
END:VEVENT

END:VCALENDAR
