BEGIN:VCALENDAR
VERSION:2.0
PRODID:-//ChamberMaster//Event Calendar 2.0//EN
METHOD:PUBLISH
X-PUBLISHED-TTL:P3D
REFRESH-INTERVAL:P3D
CALSCALE:GREGORIAN
BEGIN:VEVENT
DTSTART:20191011T060000Z
DTEND:20191011T080000Z
X-MICROSOFT-CDO-ALLDAYEVENT:FALSE
SUMMARY:Healthcare Council: Thailand Science Park Visit and Meet with the NSTDA
DESCRIPTION:The AMCHAM Healthcare Council invites AMCHAM members to attend a special meeting with the National Science and Technology Development Agency (NSTDA). As well as an exclusive Thailand Science Park tour\, this is an excellent opportunity to hear about national directions on healthcare issues and dialogue on topics ranging from the health and medical device businesses\, to advanced technologies and the healthcare service industry.\n\n\n\nBackground:\n\nAccording to the BOI\, Thailand is well positioned to become the medical hub of Asia under Thailand 4.0\, building on a strong foundation of premium medical services\, qualified healthcare specialists\, and internationally accredited medical facilities. Thai medical services are renowned worldwide\, resulting in a rapid growth in supporting industries such as pharmaceuticals\, laboratory tests\, clinical R&D and medical tourism.\n\n\n\nNational Science and Technology Development (NSTDA)\, as a government agency under the Ministry of Higher Education\, Science\, Research and Innovation\, plays a crucial role in advanced research in the Medical Hub field with its Medical Device and Testing Laboratory at Thailand Science Park.\n\n\n\nLocated north of Bangkok\, in Pathum Thani Province near Rangsit\, Thailand Science Park is the country's largest science and technology research park and forms part of Thailand's efforts to strengthen its capabilities in research and innovation. \n\n\n\nThis special opportunity is limited to 30 seats\, which will be allocated on a first-come\, first-serve basis.  Advance registration is required.
X-ALT-DESC;FMTTYPE=text/html:The AMCHAM Healthcare Council invites AMCHAM members to attend a special meeting with the National Science and Technology Development Agency (NSTDA). As well as an exclusive Thailand Science Park tour\, this is an excellent opportunity to hear about national directions on healthcare issues and dialogue on topics ranging from the health and medical device businesses\, to advanced technologies and the healthcare service industry.<br />\n<br />\n<strong>Background:</strong><br />\nAccording to the BOI\, Thailand is well positioned to become the medical hub of Asia under Thailand 4.0\, building on a strong foundation of premium medical services\, qualified healthcare specialists\, and internationally accredited medical facilities. Thai medical services are renowned worldwide\, resulting in a rapid growth in supporting industries such as pharmaceuticals\, laboratory tests\, clinical R&amp\;D and medical tourism.<br />\n<br />\nNational Science and Technology Development (NSTDA)\, as a government agency under the Ministry of Higher Education\, Science\, Research and Innovation\, plays a crucial role in advanced research in the Medical Hub field with its Medical Device and Testing Laboratory at Thailand Science Park.<br />\n<br />\nLocated north of Bangkok\,&nbsp\;in Pathum Thani Province near Rangsit\, Thailand Science Park is the country&#39\;s largest science and technology research park and forms part of Thailand&#39\;s efforts to strengthen its capabilities in research and innovation.&nbsp\;<br />\n<br />\nThis special opportunity is limited to 30 seats\, which will be allocated on a first-come\, first-serve basis.&nbsp\; Advance registration is required.
LOCATION:Business Center INC2-D Building\, Thailand Science Park Paholyothin Road\, Klong 1\, Klong Luang\, Pathumthani View a Map
UID:e.3314.395
SEQUENCE:3
DTSTAMP:20260423T092709Z
URL:http://www.connect.amchamthailand.com/events/details/healthcare-council-thailand-science-park-visit-and-meet-with-the-nstda-395
END:VEVENT

END:VCALENDAR
