BEGIN:VCALENDAR
VERSION:2.0
PRODID:-//ChamberMaster//Event Calendar 2.0//EN
METHOD:PUBLISH
X-PUBLISHED-TTL:P3D
REFRESH-INTERVAL:P3D
CALSCALE:GREGORIAN
BEGIN:VEVENT
DTSTART:20191217T003000Z
DTEND:20191217T030000Z
X-MICROSOFT-CDO-ALLDAYEVENT:FALSE
SUMMARY:HR Business Partnering: stop being seen as the “mai dai” department
DESCRIPTION:All too often\, HR is seen as the mai dai department. In this workshop\, we will discuss the challenges to building an HR organization that is truly seen as business partners at the table and how we can transform to being HR professionals who are trusted advisers to the business leadership. This workshop will be highly interactive - bring your experiences\, examples\, challenges and questions to share.\n\n\n\n\n\nOur Speaker:\n\n\n\nNeil Russell has been with RMA Group for the past nine years\, advancing through different roles including Group Lead\, Resourcing & Talent Development\; Country HR Partner for Myanmar\; Group HR Partner\, Group Lead for Recruitment\, Learning & Development and now as Group HR Manager. His background is in Recruitment and Staffing and he has worked across the Middle East and Southeast Asia and his current role works across all operations globally. Neil is also a Chartered Fellow with CIPD and is actively involved with delivering local and regional CIPD trainings. He is also a Fellow with AHRI and a Fellow with IRP in the UK.
X-ALT-DESC;FMTTYPE=text/html:<div>All too often\, HR is seen as the <em>mai dai</em> department. In this workshop\, we will discuss the challenges to building an HR organization that is truly seen as <strong>business partners at the table</strong>&nbsp\;and how we can transform to being HR professionals who are trusted advisers to the business leadership. This workshop will be highly interactive -&nbsp\;bring your experiences\, examples\, challenges and questions to share.<br />\n<br />\n<br />\n<strong>Our Speaker:</strong><br />\n<br />\n<a href="https://www.linkedin.com/in/neilrussell/">Neil Russell</a> has been with RMA Group for the past nine years\, advancing through different roles including Group Lead\, Resourcing &amp\; Talent Development\; Country HR Partner for Myanmar\; Group HR Partner\, Group Lead for Recruitment\, Learning &amp\; Development and now as Group HR Manager. His background is in Recruitment and Staffing and he has worked across the Middle East and Southeast Asia and his current role works across all operations globally. Neil is also a Chartered Fellow with CIPD and is actively involved with delivering local and regional CIPD trainings. He is also a Fellow with AHRI and a Fellow with IRP in the UK.</div>\n\n<div>&nbsp\;</div>\n
LOCATION:Sheraton Grande Suhkumvit BTS: Asok\, Exit 5 MRT: Sukhumvit\, Exit 3 View Map
UID:e.3314.418
SEQUENCE:3
DTSTAMP:20260423T054922Z
URL:http://www.connect.amchamthailand.com/events/details/hr-business-partnering-stop-being-seen-as-the-mai-dai-department-418
END:VEVENT

END:VCALENDAR
