BEGIN:VCALENDAR
VERSION:2.0
PRODID:-//ChamberMaster//Event Calendar 2.0//EN
METHOD:PUBLISH
X-PUBLISHED-TTL:P3D
REFRESH-INTERVAL:P3D
CALSCALE:GREGORIAN
BEGIN:VEVENT
DTSTART:20230719T030000Z
DTEND:20230719T040000Z
X-MICROSOFT-CDO-ALLDAYEVENT:FALSE
SUMMARY:HR Committee: Empowering Financial Wellbeing– Innovative & Engaging Strategies to Enhance Employee Financial Health
DESCRIPTION:As companies strive to create an inclusive\, engaged\, and prosperous workforce\, prioritizing financial wellbeing is increasingly essential. With innovative strategies\, organizations can support employees in gaining knowledge and practicing habits to help them overcome financial worries\, stress\, or obstacles\, forging a more financially healthy and resilient workforce. \n\n\n\nThe AMCHAM HR Committee is pleased to invite you to a thought-provoking webinar\, in which the audience will have the opportunity to engage with the speakers\, share your thoughts\, and ask questions.\n\n\n\nOur Speakers:\n\n \n\nWill Rainey - Award Winning Author and Program Manager. Will is a writer and speaker focused on helping parents teach their kids about money. His book - Grandpa's Fortune Fables\, is the best-selling children's money book. His work has appeared in the Financial Times\, iNews and the National News. Prior to being a writer\, Will was an award winning investment consultant who provided investment advice to governments\, insurance companies and some of the world's largest pension schemes.\n\n \n\nPrabhav Rakhra -  Co-Founder and Managing Director at Salary Hero. Prabhav (Prab) is the Co-founder and MD of Salary Hero\, a fintech headquartered in Bangkok. Salary Hero is an employee financial health platform built for the Thai market and work with a number of large companies to empower their workers. Prior to founding Salary Hero Prab was a Director at Barclays Investment Bank in their New York and London offices before moving to Bain & Co. in Bangkok where he focused on PE & Financial Services. He holds an MBA from Columbia University.
X-ALT-DESC;FMTTYPE=text/html:As companies strive to create an inclusive\, engaged\, and prosperous workforce\, prioritizing financial wellbeing is increasingly essential. With innovative strategies\, organizations can support employees in gaining knowledge and practicing habits to help them overcome financial worries\, stress\, or obstacles\, forging a more financially healthy and resilient workforce.&nbsp\;<br />\n<br />\nThe AMCHAM HR Committee is pleased to invite you to a thought-provoking webinar\, in which the audience will have the opportunity to engage with the speakers\, share your thoughts\, and ask questions.<br />\n<br />\nOur Speakers:<br />\n&nbsp\;<br />\n<a href="https://www.linkedin.com/in/will-rainey-%F0%9F%91%B1%F0%9F%8F%BB%E2%80%8D%E2%99%82%EF%B8%8F-26601917/">Will Rainey</a> - Award Winning Author and Program Manager. Will is a writer and speaker focused on helping parents teach their kids about money. His book - Grandpa&rsquo\;s Fortune Fables\, is the best-selling children&rsquo\;s money book. His work has appeared in the Financial Times\, iNews and the National News. Prior to being a writer\, Will was an award winning investment consultant who provided investment advice to governments\, insurance companies and some of the world&rsquo\;s largest pension schemes.<br />\n&nbsp\;<br />\n<a href="https://www.linkedin.com/in/prabhav-rakhra-a944a63/">Prabhav Rakhra </a>-&nbsp\; Co-Founder and Managing Director at Salary Hero. Prabhav (Prab) is the Co-founder and MD of Salary Hero\, a fintech headquartered in Bangkok. Salary Hero is an employee financial health platform built for the Thai market and work with a number of large companies to empower their workers. Prior to founding Salary Hero Prab was a Director at Barclays Investment Bank in their New York and London offices before moving to Bain &amp\; Co. in Bangkok where he focused on PE &amp\; Financial Services. He holds an MBA from Columbia University.
LOCATION:Webinar
UID:e.3314.2547
SEQUENCE:3
DTSTAMP:20260419T222541Z
URL:http://www.connect.amchamthailand.com/events/details/hr-committee-empowering-financial-welling-innovative-engaging-strategies-to-enhance-employee-financial-health-2547
END:VEVENT

END:VCALENDAR
