BEGIN:VCALENDAR
VERSION:2.0
PRODID:-//ChamberMaster//Event Calendar 2.0//EN
METHOD:PUBLISH
X-PUBLISHED-TTL:P3D
REFRESH-INTERVAL:P3D
CALSCALE:GREGORIAN
BEGIN:VEVENT
DTSTART:20190426T010000Z
DTEND:20190426T033000Z
X-MICROSOFT-CDO-ALLDAYEVENT:FALSE
SUMMARY:HR Committee: If Coaching is So Great\, Why Doesn’t It Work?
DESCRIPTION:How to boost organizational performance by building a coaching culture that really works\n\n \n\n"Coaching" is a popular buzzword in management and HR circles. Everyone believes the promise that a coaching culture boosts performance\, attracts top talent\, and retains high performers. So why do so many organizations fail when it comes to building a coaching culture?\n\n \n\nIn this hands-on workshop\, leadership advisor Dr. Gerrit Pelzer will help us learn from the three most common mistakes that companies make when trying to build a coaching culture: having no clear definition what a coaching culture is\, having no clear objective\, and underestimating how difficult it is to build such a culture. Since coaching is still in its infancy in Thailand\, we will learn what coaching actually is\, what it is not\, and how to help it happen in our organizations.
X-ALT-DESC;FMTTYPE=text/html:<span style="font-size:14px\;"><span style="font-family:arial\;">How to boost organizational performance by building a coaching culture that&nbsp\;<u>really</u>&nbsp\;works<br />\n&nbsp\;<br />\n&quot\;Coaching&quot\; is a popular buzzword in management and HR circles. Everyone believes the promise that a coaching culture boosts performance\, attracts top talent\, and retains high performers. So why do so many organizations fail when it comes to building a coaching culture?<br />\n&nbsp\;<br />\nIn this hands-on workshop\, leadership advisor Dr. Gerrit Pelzer will help us learn from the three most common mistakes that companies make when trying to build a coaching culture: having no clear definition what a coaching culture is\, having no clear objective\, and underestimating how difficult it is to build such a culture. Since coaching is still in its infancy in Thailand\, we will learn what coaching actually is\, what it is not\, and how to help it happen in our organizations.</span></span><br />\n&nbsp\;
LOCATION:The Westin Grande Sukhumvit BTS Asok Exit 5 MRT Sukhumvit Exit 3
UID:e.3314.127
SEQUENCE:3
DTSTAMP:20260423T185559Z
URL:http://www.connect.amchamthailand.com/events/details/hr-committee-if-coaching-is-so-great-why-doesn-t-it-work-127
END:VEVENT

END:VCALENDAR
