BEGIN:VCALENDAR
VERSION:2.0
PRODID:-//ChamberMaster//Event Calendar 2.0//EN
METHOD:PUBLISH
X-PUBLISHED-TTL:P3D
REFRESH-INTERVAL:P3D
CALSCALE:GREGORIAN
BEGIN:VEVENT
DTSTART:20231102T020000Z
DTEND:20231102T040000Z
X-MICROSOFT-CDO-ALLDAYEVENT:FALSE
SUMMARY:HR Committee: Unlocking the Power of People Analytics - Measuring What Matters
DESCRIPTION:The AMCHAM HR Committee invites you to join us on a deep dive into the world of data-driven HR. Whether you're new to HR or a seasoned professional\, this session aims to introduce you to the knowledge and tools used to harness the power of People Analytics.\n\n\n\nOur speakers will look at the fundamentals of data utilization in HR\, sharing real-world success stories\, discussing core principles and benefits\, and how to seamlessly integrate HR metrics and data into the employee life cycle.\n\n\n\nArmed with these insights\, participants will emerge better prepared to make data-informed HR decisions that drive organizational success and drive HR transformation through data.\n\n\n\nSpeakers: \n\n\n\nWanchalerm Siriphand\, Managing Partner of Pragma and Will Group (PWG)\, boasts over 19 years of extensive consulting expertise both domestically and internationally\, with a specialization in executing strategies\, facilitating mergers and acquisitions (M&A)\, preparing for initial public offerings (IPOs)\, developing HR strategies\, and orchestrating business transformations. He spent 12 years at Korn Ferry (Hay Group) and was in the position of Associate Client Partner and spearheaded the Strategy Execution practice for the Thai and Vietnamese markets.\n\n\n\nDenchai Petchamarat\, DMD   People & Organization of Kasikorn Business Technology Group (KBTG)\, drives organizational success by aligning HR strategy with business goals. Collaborating closely with senior management\, he addresses HR issues\, guides recruitment\, manages performance\, fosters leadership development\, and enhances the employee experience. Previously\, he was the Head of the Center of Excellence at Charoen Pokphand Group and the Head of Japanese Cuisine at Central Restaurants Group.\n\n\n\nNitithus Upatumvipanon\, Principal Customer Success Manager of Workday\, has been working in the IT industry for more than 20 years with multiple vendors such as IBM\, Microsoft\, SAP and now with Workday. He has been working in many roles such as consultant\, solution advisor\, and customer success executive. He is responsible for establishing strong relationships with key clients in Thailand and the region. Helping customers maximize the value of their cloud investment\, be a trusted advisor\, increase customer adoption\, renewals\, and building customer success references.
X-ALT-DESC;FMTTYPE=text/html:The AMCHAM HR Committee invites you to join us on a deep dive into the world of data-driven HR. Whether you&#39\;re new to HR or a seasoned professional\, this session aims to introduce you to the knowledge and tools used to harness the power of People Analytics.<br />\n<br />\nOur speakers will look at the fundamentals of data utilization in HR\, sharing real-world success stories\, discussing core principles and benefits\, and how to seamlessly integrate HR metrics and data into the employee life cycle.<br />\n<br />\nArmed with these insights\, participants will emerge better prepared to&nbsp\;make data-informed HR decisions that drive organizational success and drive HR transformation through data.<br />\n<br />\nSpeakers:&nbsp\;<br />\n<br />\n<a href="https://www.linkedin.com/in/wanchalerm-siriphand-8156b425/">Wanchalerm Siriphand</a>\, Managing Partner of Pragma and Will Group (PWG)\, boasts over 19 years of extensive consulting expertise both domestically and internationally\, with a specialization in executing strategies\, facilitating mergers and acquisitions (M&amp\;A)\, preparing for initial public offerings (IPOs)\, developing HR strategies\, and orchestrating business transformations. He spent 12 years at Korn Ferry (Hay Group) and was in the position of Associate Client Partner and spearheaded the Strategy Execution practice for the Thai and Vietnamese markets.<br />\n<br />\n<a href="https://www.linkedin.com/in/denchai-petchamarat-a925193/">Denchai Petchamarat</a>\, DMD &ndash\; People &amp\; Organization of Kasikorn Business Technology Group (KBTG)\, drives organizational success by aligning HR strategy with business goals. Collaborating closely with senior management\, he addresses HR issues\, guides recruitment\, manages performance\, fosters leadership development\, and enhances the employee experience. Previously\, he was the Head of the Center of Excellence at Charoen Pokphand Group and the Head of Japanese Cuisine at Central Restaurants Group.<br />\n<br />\nNitithus Upatumvipanon\, Principal Customer Success Manager of Workday\, has been working in the IT industry for more than 20 years with multiple vendors such as IBM\, Microsoft\, SAP and now with Workday. He has been working in many roles such as consultant\, solution advisor\, and customer success executive. He is responsible for establishing strong relationships with key clients in Thailand and the region. Helping customers maximize the value of their cloud investment\, be a trusted advisor\, increase customer adoption\, renewals\, and building customer success references.
LOCATION:True Digital Park\, Griffin Building 7th Floor\, Townhall L BTS: Punnawithi (direct exit to True Digital Park) For directions to the Griffin Building\, click here. Please note that not all venues in True Digital Park are wheelchair-accessible. If you have mobility concerns\, please contact our staff so that we can confirm suitability of the venue.
UID:e.3314.2623
SEQUENCE:3
DTSTAMP:20260419T165233Z
URL:http://www.connect.amchamthailand.com/events/details/hr-committee-unlocking-the-power-of-people-analytics-measuring-what-matters-2623
END:VEVENT

END:VCALENDAR
