BEGIN:VCALENDAR
VERSION:2.0
PRODID:-//ChamberMaster//Event Calendar 2.0//EN
METHOD:PUBLISH
X-PUBLISHED-TTL:P3D
REFRESH-INTERVAL:P3D
CALSCALE:GREGORIAN
BEGIN:VEVENT
DTSTART:20200520T070000Z
DTEND:20200520T080000Z
X-MICROSOFT-CDO-ALLDAYEVENT:FALSE
SUMMARY:HR Committee Video Conference: “Recovery Readiness - How to Safely Return to Work”
DESCRIPTION:As the rate of new Covid-19 cases has slowed to a trickle\, companies are looking forward to a cautious re-opening of the economy and are planning ahead what it will take to resume operations safely.\n\n \n\nPlease join AMCHAM's HR Committee for a panel discussion with speakers from Manpower and Cushman & Wakefield. Both companies have drawn on their global experience\, particularly in the Chinese markets\, to compile best practices and guidelines from the human resources and office management perspectives for a safe return to work.  \n\n \n\nTopics addressed will include:\n\n- What health & safety protocols need to be in place for a safe return to office?\n\n- How do you work with staff to create the necessary behavior changes?\n\n- What physical changes are necessary to the work environment?\n\n- How do you determine what is the best timing and pace for returning to office?\n\n \n\nAbout the Speakers:\n\nManoj Chatpibal\, Corporate Services Director\, ManpowerGroup Thailand. Manoj is responsible for leading the Finance & Accounting\, Human Resources\, IT\, Legal\, Procurement\, and Payroll Services functions at Manpower Thailand. He holds an MBA in Information Systems and Decision Sciences from Loyola University and a BA in Finance from Assumption University and in International Relations from Ramkamhaeng University.\n\n \n\nGareth Powell\, Senior Director\, Cushman & Wakefield. Gareth has been operating in property & asset management across the Asia Pacific for over 13 years\, with a strong focus on South East Asia. His main areas of focus have been providing operational strategic advice and management services for clients who own\, develop\, and occupy office\, industrial\, and retail properties.
X-ALT-DESC;FMTTYPE=text/html:<div>As the rate of new Covid-19 cases has slowed to a trickle\, companies are looking forward to a cautious re-opening of the economy and are planning ahead what it will take to resume operations safely.</div>\n\n<div>&nbsp\;</div>\n\n<div>Please join AMCHAM&rsquo\;s HR Committee for a panel discussion with speakers from Manpower and Cushman &amp\; Wakefield. Both companies have drawn on their global experience\, particularly in the Chinese markets\, to compile best practices and guidelines from the human resources and office management perspectives for a safe return to work.&nbsp\;&nbsp\;</div>\n\n<div>&nbsp\;</div>\n\n<div>Topics addressed will include:</div>\n\n<div>-<span style="white-space:pre"> </span>What health &amp\; safety protocols need to be in place for a safe return to office?</div>\n\n<div>-<span style="white-space:pre"> </span>How do you work with staff to create the necessary behavior changes?</div>\n\n<div>-<span style="white-space:pre"> </span>What physical changes are necessary to the work environment?</div>\n\n<div>-<span style="white-space:pre"> </span>How do you determine what is the best timing and pace for returning to office?</div>\n\n<div>&nbsp\;</div>\n\n<div><strong>About the Speakers:</strong></div>\n\n<div>Manoj Chatpibal\, Corporate Services Director\, ManpowerGroup Thailand. Manoj is responsible for leading the Finance &amp\; Accounting\, Human Resources\, IT\, Legal\, Procurement\, and Payroll Services functions at Manpower Thailand. He holds an MBA in Information Systems and Decision Sciences from Loyola University and a BA in Finance from Assumption University and in International Relations from Ramkamhaeng University.</div>\n\n<div>&nbsp\;</div>\n\n<div><a href="http://www.linkedin.com/in/garethmichaelpowell/?originalSubdomain=th">Gareth Powell</a>\, Senior Director\, Cushman &amp\; Wakefield. Gareth has been operating in property &amp\; asset management across the Asia Pacific for over 13 years\, with a strong focus on South East Asia. His main areas of focus have been providing operational strategic advice and management services for clients who own\, develop\, and occupy office\, industrial\, and retail properties.&nbsp\;</div>\n
LOCATION:Video Conference
UID:e.3314.1611
SEQUENCE:3
DTSTAMP:20260422T201515Z
URL:http://www.connect.amchamthailand.com/events/details/hr-committee-video-conference-recovery-readiness-how-to-safely-return-to-work-1611
END:VEVENT

END:VCALENDAR
