BEGIN:VCALENDAR
VERSION:2.0
PRODID:-//ChamberMaster//Event Calendar 2.0//EN
METHOD:PUBLISH
X-PUBLISHED-TTL:P3D
REFRESH-INTERVAL:P3D
CALSCALE:GREGORIAN
BEGIN:VEVENT
DTSTART:20220421T030000Z
DTEND:20220421T040000Z
X-MICROSOFT-CDO-ALLDAYEVENT:FALSE
SUMMARY:Impacts of Russia Sanctions in the Asia Pacific
DESCRIPTION:Click here to register\n\n\n\nRecent unprecedented events in Ukraine have prompted one of the strongest sanctions reactions by the U.S. government in recent history. As new sanctions announcements by the U.S. and other countries continue to be announced\, businesses\, supply chains\, financial systems\, and large swaths of the global economy are greatly affected. But\, what will be the greatest impact of these sanctions regimes on the Asia Pacific region?\n\n\n\nPlease join us for a special webinar presentation with preeminent sanctions subject matter experts Josh Shrager and Mark Nakhla of Kharon for an in-depth presentation on the impact of Russia/Ukraine sanctions in the APAC region. Both experts in sanctions compliance\, Josh and Mark are former Treasury and State Department officials with vast experience in sanctions and illicit financial activity policies. Please join us for the rare chance to hear from true experts on the impact of Russia/Ukraine sanctions in the APAC region.\n\n\n\nTopics covered will include:\n\n	Preparing for what lies ahead\n	Assessing risk\n	Global best practices in mitigating financial crimes and trade compliance\n	Geopolitical impacts in the Asia Pacific region\n	Sharing of insights gleaned from investigative research across the Russia milieu and larger business environment\n\nThis webinar is hosted by AMCHAM Myanmar for all members of AMCHAMs of the Asia Pacific\, in cooperation with AMCHAM South China\, AMCHAM Thailand\, AMCHAM Singapore\, and AMCHAM Shanghai.\n\n\n\n-----\n\nThis session will be conducted under the Chatham House Rule\, is off-the-record\, and will not be recorded. For press inquiries\, please contact service@amchammyanmar.com.\n\n\n\nDate and Time: April 21\, 9:30 am Myanmar / 11:00 am Singapore / 10:00 am Thailand\n\nVenue: Zoom Webinar. A webinar link will be sent to you in advance.\n\nTickets: FREE for members of AMCHAMs of the Asia Pacific (AAP)\n\nBooking deadline: April 20\, 12 pm (Myanmar Time)\n\nCapacity is limited and tickets are on a first-come-first-serve basis\n\nPrior booking is required and no walk ins accepted.\n\nTickets are non-transferable.\n\nThis event is open to AMCHAMs of the Asia Pacific (AAP) Members Only
X-ALT-DESC;FMTTYPE=text/html:<font color="#ff0000"><b><span style="font-size:22px\;"><a href="https://amchammyanmar.glueup.com/event/impacts-of-russia-sanctions-in-the-asia-pacific-53242/">Click here to register</a></span></b></font><br />\n<br />\nRecent unprecedented events in Ukraine have prompted one of the strongest sanctions reactions by the U.S. government in recent history. As new sanctions announcements by the U.S. and other countries continue to be announced\, businesses\, supply chains\, financial systems\, and large swaths of the global economy are greatly affected. But\, what will be the greatest impact of these sanctions regimes on the Asia Pacific region?<br />\n<br />\nPlease join us for a special webinar presentation with preeminent sanctions subject matter experts Josh Shrager and Mark Nakhla of Kharon for an in-depth presentation on the impact of Russia/Ukraine sanctions in the APAC region. Both experts in sanctions compliance\, Josh and Mark are former Treasury and State Department officials with vast experience in sanctions and illicit financial activity policies. Please join us for the rare chance to hear from true experts on the impact of Russia/Ukraine sanctions in the APAC region.<br />\n<br />\nTopics covered will include:\n<ul>\n	<li>Preparing for what lies ahead</li>\n	<li>Assessing risk</li>\n	<li>Global best practices in mitigating financial crimes and trade compliance</li>\n	<li>Geopolitical impacts in the Asia Pacific region</li>\n	<li>Sharing of insights gleaned from investigative research across the Russia milieu and larger business environment</li>\n</ul>\nThis webinar is hosted by AMCHAM Myanmar for all members of AMCHAMs of the Asia Pacific\, in cooperation with AMCHAM South China\, AMCHAM Thailand\, AMCHAM Singapore\, and AMCHAM Shanghai.<br />\n<br />\n-----<br />\nThis session will be conducted under the Chatham House Rule\, is off-the-record\, and will not be recorded. For press inquiries\, please contact service@amchammyanmar.com.<br />\n<br />\nDate and Time: April 21\, 9:30 am Myanmar / 11:00 am Singapore / 10:00 am Thailand<br />\nVenue: Zoom Webinar. A webinar link will be sent to you in advance.<br />\nTickets: FREE for members of AMCHAMs of the Asia Pacific (AAP)<br />\nBooking deadline: April 20\, 12 pm (Myanmar Time)<br />\nCapacity is limited and tickets are on a first-come-first-serve basis<br />\nPrior booking is required and no walk ins accepted.<br />\nTickets are non-transferable.<br />\nThis event is open to AMCHAMs of the Asia Pacific (AAP) Members Only
LOCATION:Online Webinar
UID:e.3314.2191
SEQUENCE:3
DTSTAMP:20260421T012758Z
URL:http://www.connect.amchamthailand.com/events/details/impacts-of-russia-sanctions-in-the-asia-pacific-2191
END:VEVENT

END:VCALENDAR
