BEGIN:VCALENDAR
VERSION:2.0
PRODID:-//ChamberMaster//Event Calendar 2.0//EN
METHOD:PUBLISH
X-PUBLISHED-TTL:P3D
REFRESH-INTERVAL:P3D
CALSCALE:GREGORIAN
BEGIN:VEVENT
DTSTART:20230602T010000Z
DTEND:20230602T030000Z
X-MICROSOFT-CDO-ALLDAYEVENT:FALSE
SUMMARY:Independence Day Celebration:190 Trees for 190 Years of U.S. - Thai Diplomacy
DESCRIPTION:AMCHAM is kicking off our Independence Day celebrations early!\n\nIn collaboration with the U.S. Embassy\, and the Bangkok Metropolitan Administration (BMA)\, we are delighted to invite you to a celebration of 190 years of Thai - U.S. diplomatic relations by contributing to the one-million trees initiative launched by the Bangkok Governor. \n\nPlease join us at our inaugural tree planting ceremony at the U.S. Ambassador's Residence on Wireless Road\, where members will have the opportunity to learn about the one-million trees initiative and celebrate the long-standing relationship that America and Thailand share. We'll be planting the first ceremonial trees with the U.S. Ambassador Robert Godec and the Bangkok Governor Chadchart Sittipunt.\n\nWe'll also be sending AMCHAM members home with trees to plant at their home or office as a symbol of our continued commitment to Thailand and invite you to participate in our social media campaign culminating on July 4.\n\nPlease be sure to register early\, as spaces are limited.
X-ALT-DESC;FMTTYPE=text/html:<p>AMCHAM is kicking off our Independence Day celebrations early!</p>\n\n<p>In collaboration with the U.S. Embassy\, and the Bangkok Metropolitan Administration (BMA)\, we are delighted to invite you to a celebration of 190 years of Thai - U.S. diplomatic relations by contributing to the one-million trees initiative launched by the Bangkok Governor.&nbsp\;</p>\n\n<p>Please join us at our inaugural tree planting ceremony at the U.S. Ambassador&#39\;s Residence on Wireless Road\, where members will have the opportunity to learn about the one-million trees initiative and celebrate the long-standing&nbsp\;relationship that America and Thailand share. We&#39\;ll be planting the first ceremonial trees with the U.S. Ambassador Robert Godec and the Bangkok Governor Chadchart Sittipunt.</p>\n\n<p>We&#39\;ll also be sending AMCHAM members home with trees to plant at their home or office as a symbol of our continued commitment to Thailand and invite you to participate in our social media campaign culminating on July 4.</p>\n\n<p>Please be sure to register early\, as spaces are limited.&#8239\;&nbsp\;</p>\n
LOCATION:The U.S. Ambassador's Residence BTS: Ploenchit Parking is not available at the residence and guests must follow U.S. Embassy protocols for access to the Ambassador's home.
UID:e.3314.2542
SEQUENCE:3
DTSTAMP:20260419T235656Z
URL:http://www.connect.amchamthailand.com/events/details/independence-day-celebration-190-trees-for-190-years-of-u-s-thai-diplomacy-2542
END:VEVENT

END:VCALENDAR
