BEGIN:VCALENDAR
VERSION:2.0
PRODID:-//ChamberMaster//Event Calendar 2.0//EN
METHOD:PUBLISH
X-PUBLISHED-TTL:P3D
REFRESH-INTERVAL:P3D
CALSCALE:GREGORIAN
BEGIN:VEVENT
DTSTART:20190125T010000Z
DTEND:20190125T020000Z
X-MICROSOFT-CDO-ALLDAYEVENT:FALSE
SUMMARY:Independence Day Picnic 2019: Kick-off Planning Meeting
DESCRIPTION:It is time to start planning for AMCHAM's biggest community event\, the Independence Day Picnic.\n\nWe will kick off the planning session by discussing the event date\, venue\, vendors\, entertainment and more. \n\nIdeas and volunteers and always welcome\, so join us in making this traditional event a success and help us raise funds for the AMCHAM Thailand Foundation's scholarship programs.
X-ALT-DESC;FMTTYPE=text/html:<p>It is time to start&nbsp\;planning for AMCHAM&#39\;s biggest community event\, the Independence Day Picnic.<o:p></o:p></p>\n\n<p>We will kick off the planning session by discussing the event date\, venue\, vendors\, entertainment and more.&nbsp\;<o:p></o:p></p>\n\n<p>Ideas and volunteers and always welcome\, so join us in making this traditional event a success and help us raise funds for the AMCHAM&nbsp\;Thailand Foundation&#39\;s scholarship programs.</p>\n
LOCATION:AMCHAM Office\, Citi Boardroom BTS: Ploenchit
UID:e.3314.200
SEQUENCE:3
DTSTAMP:20260424T000654Z
URL:http://www.connect.amchamthailand.com/events/details/independence-day-picnic-2019-kick-off-planning-meeting-200
END:VEVENT

END:VCALENDAR
