BEGIN:VCALENDAR
VERSION:2.0
PRODID:-//ChamberMaster//Event Calendar 2.0//EN
METHOD:PUBLISH
X-PUBLISHED-TTL:P3D
REFRESH-INTERVAL:P3D
CALSCALE:GREGORIAN
BEGIN:VEVENT
DTSTART:20190329T010000Z
DTEND:20190329T020000Z
X-MICROSOFT-CDO-ALLDAYEVENT:FALSE
SUMMARY:Independence Day Picnic 2019: March Planning Meeting
DESCRIPTION:The American community of Bangkok is preparing once again to celebrate Independence Day with a traditional community picnic event hosted by AMCHAM at Bangkok Patana School on Saturday\, July 6.\n\n\n\nWe invite anyone interested in participating in this event or contributing ideas to join our planning meeting on March 29.\n\n\n\nFor those of you who cannot attend the meeting\, here are additional ways you can participate in I-Day this year:\n\n\n	Volunteer to help sell entrance tickets\, beverages\, and help out on the day of the event\n	Become a Star Sponsor on our U.S. Flag! For a Baht 10\,000 donation\, you receive 10 compimentary tickets and your logo is featured in all promotional materials for the event\, on our website\, and in our T-AB Magazine.\n	Donate raffle prizes for our Charity booth raffle. All proceeds from these activities support the American Chamber of Commerce in Thailand Foundation (ATF) student scholarship program. Prize donors will receive recognition at the event\, in our quarterly T-AB Magazine\, and on our website.\n	We will have food and other vendor opportunities available.\n\n\nIf you are interested in any of the above\, please contact Kittie at kittie@amchamthailand.com.
X-ALT-DESC;FMTTYPE=text/html:<p>The American community of Bangkok is preparing once again to celebrate Independence Day with a traditional community picnic event hosted by AMCHAM&nbsp\;at&nbsp\;Bangkok Patana&nbsp\;School on Saturday\, July 6.<br />\n<br />\nWe invite anyone interested in participating in this event or contributing ideas to join our planning meeting on March 29.<br />\n<br />\nFor those of you who cannot attend the meeting\, here are additional ways you can participate in I-Day this year:</p>\n\n<ul>\n	<li>Volunteer to help sell entrance tickets\, beverages\,&nbsp\;and help out on the day of the event</li>\n	<li>Become a&nbsp\;Star Sponsor&nbsp\;on our U.S. Flag!&nbsp\;For a Baht 10\,000 donation\, you receive 10 compimentary tickets and your logo is featured in all promotional materials for the event\, on our website\, and in our T-AB Magazine.</li>\n	<li>Donate raffle prizes for our Charity booth raffle. All proceeds from these activities support the American Chamber of Commerce in Thailand Foundation (ATF)&nbsp\;<a href="https://www.amchamthailand.com/foundation/">student scholarship program</a>. Prize donors will receive recognition at the event\, in our quarterly T-AB Magazine\, and on our website.</li>\n	<li>We will have food and other vendor opportunities available.</li>\n</ul>\n\n<p>If you are interested in any of the above\, please contact Kittie&nbsp\;at <a href="mailto:kittie@amchamthailand.com">kittie@amchamthailand.com</a>.</p>\n
LOCATION:AMCHAM Office\, Citi Boardroom BTS: Ploenchit
UID:e.3314.274
SEQUENCE:3
DTSTAMP:20260423T221600Z
URL:http://www.connect.amchamthailand.com/events/details/independence-day-picnic-2019-march-planning-meeting-274
END:VEVENT

END:VCALENDAR
