BEGIN:VCALENDAR
VERSION:2.0
PRODID:-//ChamberMaster//Event Calendar 2.0//EN
METHOD:PUBLISH
X-PUBLISHED-TTL:P3D
REFRESH-INTERVAL:P3D
CALSCALE:GREGORIAN
BEGIN:VEVENT
DTSTART;VALUE=DATE:20201028
DTEND;VALUE=DATE:20201030
TRANSP:TRANSPARENT
X-MICROSOFT-CDO-ALLDAYEVENT:TRUE
SUMMARY:Indo Pacific Business Forum Virtual Event\, Hanoi
DESCRIPTION:REGISTER HERE\n\n\n\nThe American Chamber of Commerce in Thailand (AMCHAM) together with The U.S. Chamber of Commerce are pleased to announce the 3rd annual Indo-Pacific Business Forum\, a premier public-private event supported by the governments of the United States and Vietnam and co-hosted by the U.S. Chamber of Commerce and Vietnam Chamber of Commerce and Industry (VCCI).\n\n\n\nThe Forum will convene senior government officials\, industry executives\, and other partners to discuss energy\, infrastructure\, healthcare\, the digital economy\, investment climate/market connectivity\, and other critical sectors in the Indo-Pacific. Speakers will also offer policy recommendations and share their views on how public-private partnerships can create an enabling environment for sustainable development.\n\n\n\nRead the full 2020 Indo-Pacific Business Forum Announcement   \n\nSee highlights from the 2019 Indo-Pacific Business Forum
X-ALT-DESC;FMTTYPE=text/html:<a href="https://webster.eventsair.com/2020-indo-pacific-business-forum/registrationform/Site/Register"><strong>REGISTER HERE</strong></a><br />\n<br />\nThe American Chamber of Commerce in Thailand (AMCHAM) together with The U.S. Chamber of Commerce are pleased to announce the 3rd annual Indo-Pacific Business Forum\, a premier public-private event supported by the governments of the United States and Vietnam and co-hosted by the U.S. Chamber of Commerce and Vietnam Chamber of Commerce and Industry (VCCI).<br />\n<br />\nThe Forum will convene senior government officials\, industry executives\, and other partners to discuss energy\, infrastructure\, healthcare\, the digital economy\, investment climate/market connectivity\, and other critical sectors in the Indo-Pacific. Speakers will also offer policy recommendations and share their views on how public-private partnerships can create an enabling environment for sustainable development.<br />\n<br />\n<a href="http://click.uschamber.com/?qs=b4474a5863d16d199051ba196d8b0d0c6a3de9fbdc71bedf507d280cc3d65b2d743dc403c2c271a56c3f89bdece0adc28fb22080f1fa95e4">Read the full 2020 Indo-Pacific Business Forum Announcement &gt\;&gt\;</a><br />\n<a href="http://click.uschamber.com/?qs=b4474a5863d16d194d8f52afbe89ca4cd89e5693a0a867a6cb7d0c6190f5bb7f890287dafd2ba2c9ea3bdf054436825c5818a5795ef97508">See highlights from the 2019 Indo-Pacific Business Forum &gt\;&gt\;</a>
LOCATION:Hanoi\, Vietnam (Virtual & In-Person)
UID:e.3314.1701
SEQUENCE:3
DTSTAMP:20260422T112342Z
URL:http://www.connect.amchamthailand.com/events/details/indo-pacific-business-forum-virtual-event-hanoi-1701
END:VEVENT

END:VCALENDAR
