BEGIN:VCALENDAR
VERSION:2.0
PRODID:-//ChamberMaster//Event Calendar 2.0//EN
METHOD:PUBLISH
X-PUBLISHED-TTL:P3D
REFRESH-INTERVAL:P3D
CALSCALE:GREGORIAN
BEGIN:VEVENT
DTSTART:20181130T113000Z
DTEND:20181130T140000Z
X-MICROSOFT-CDO-ALLDAYEVENT:FALSE
SUMMARY:Inter-Chamber Young Professionals
DESCRIPTION:AMCHAM\, BCCT\, FTCC\, and GTCC Young Professionals will host the very first "Inter-Chamber Young Professionals Networking Night 2018" on November 30th at The Westin Grande Sukhumvit.\n\n\n\nThe joint event will provide you with a fantastic opportunity to meet and network with hundreds of young professionals from all over the city. Join us for this special evening at the Altitude Rooftop\, in the heart of Bangkok. Why not bring your friends and colleagues along to this very special edition of YPC Networking. \n\n\n\nAgenda:\n\n	\n		\n			AMCHAM\, BCCT\, FTCC\, and GTCC Young Professionals will host the very first "Inter-Chamber Young Professionals Networking Night 2018" on November 30th at The Westin Grande Sukhumvit.\n\n			\n\n			The joint event will provide you with a fantastic opportunity to meet and network with hundreds of young professionals from all over the city. Join us for this special evening at the Altitude Rooftop\, in the heart of Bangkok. Why not bring your friends and colleagues along to this very special edition of YPC Networking. \n\n			\n\n			Agenda:\n\n			7.00 pm                Registration opens and networking\n\n			7.15 pm                Welcome speech\n\n			8.30 pm                Thanks sponsors\, lucky draw and call for last drink\n\n			9.00 pm                Close
X-ALT-DESC;FMTTYPE=text/html:<span style="font-family:arial\,helvetica neue\,helvetica\,sans-serif">AMCHAM\, BCCT\, FTCC\, and GTCC Young Professionals will host the very first &ldquo\;Inter-Chamber Young Professionals Networking Night 2018&rdquo\; on November 30th&nbsp\;at The Westin Grande Sukhumvit.<br />\n<br />\nThe joint event will provide you with a fantastic opportunity to meet and network with hundreds of young professionals from all over the city. Join us for this special evening at the Altitude Rooftop\, in the heart of Bangkok. Why not bring your friends and colleagues along to this very special edition of YPC Networking.&nbsp\;<br />\n<br />\nAgenda:</span>\n<table align="left" border="0" cellpadding="0" cellspacing="0" style="width:100.0%\;border-collapse:collapse\;" width="100%">\n	<tbody>\n		<tr>\n			<td style="padding:0in 13.5pt 6.75pt 13.5pt\;vertical-align:top\;"><span style="color:black\;"><span style="font-family:arial\,sans-serif\;"><span style="font-size:9.0pt\;">AMCHAM\, BCCT\, FTCC\, and GTCC Young Professionals will host the very first &ldquo\;Inter-Chamber Young Professionals Networking Night 2018&rdquo\; on November 30th&nbsp\;at The Westin Grande Sukhumvit.<br />\n			<br />\n			The joint event will provide you with a fantastic opportunity to meet and network with hundreds of young professionals from all over the city. Join us for this special evening at the Altitude Rooftop\, in the heart of Bangkok. Why not bring your friends and colleagues along to this very special edition of YPC Networking.&nbsp\;<br />\n			<br />\n			Agenda:<br />\n			7.00&nbsp\;pm &nbsp\;&nbsp\;&nbsp\;&nbsp\;&nbsp\;&nbsp\;&nbsp\;&nbsp\;&nbsp\;&nbsp\;&nbsp\;&nbsp\;&nbsp\;&nbsp\; Registration opens and networking<br />\n			7.15 pm &nbsp\;&nbsp\;&nbsp\;&nbsp\;&nbsp\;&nbsp\;&nbsp\;&nbsp\;&nbsp\;&nbsp\;&nbsp\;&nbsp\;&nbsp\;&nbsp\; Welcome speech<br />\n			8.30 pm &nbsp\;&nbsp\;&nbsp\;&nbsp\;&nbsp\;&nbsp\;&nbsp\;&nbsp\;&nbsp\;&nbsp\;&nbsp\;&nbsp\;&nbsp\;&nbsp\; Thanks sponsors\, lucky draw and call for last drink<br />\n			9.00 pm&nbsp\; &nbsp\; &nbsp\; &nbsp\; &nbsp\; &nbsp\; &nbsp\; &nbsp\;&nbsp\;Close</span></span></span></td>\n		</tr>\n	</tbody>\n</table>\n
LOCATION:Venue: Altitude Rooftop\, 25th floor\, The Westin Grande Sukhumvit (nearest BTS station: Asoke exit 5 / MRT station: Sukhumvit exit 3)
UID:e.3314.73
SEQUENCE:3
DTSTAMP:20260424T030333Z
URL:http://www.connect.amchamthailand.com/events/details/inter-chamber-young-professionals-73
END:VEVENT

END:VCALENDAR
