BEGIN:VCALENDAR
VERSION:2.0
PRODID:-//ChamberMaster//Event Calendar 2.0//EN
METHOD:PUBLISH
X-PUBLISHED-TTL:P3D
REFRESH-INTERVAL:P3D
CALSCALE:GREGORIAN
BEGIN:VEVENT
DTSTART:20181212T050000Z
DTEND:20181212T073000Z
X-MICROSOFT-CDO-ALLDAYEVENT:FALSE
SUMMARY:Jazzy Festive Luncheon
DESCRIPTION:Please join us for our final luncheon for 2018\, featuring a live band playing a mix of popular and holiday season jazz music. Bring your colleagues\, secretary\, staff and other friends for a fun lunch and holiday festivities. Don't miss the lucky draw of festive gifts.\n\nNote that bookings for 10 persons will have a reserved table.\n\n\n\nMenu\n\nCreamed pumpkin soup\n\nMilk foam\n\nVirgin olive oil\n\nPannini crouton\n\n\n\n***\n\nHoney glazed Virginian-ham\n\nRosemary jus\n\nGratin potato\n\nSaut ed Brussels sprouts\n\nDressed carrots\n\n\n\n***\n\nChristmas Log cake\n\nVanilla ice cream\n\nChocolate cigar\n\nWhipped cream\n\nMint leaf\n\nVegetarian option available or if you are unable to eat pork please indicate in comments box when booking.\n\n\n\nLAST OPPORTUNITY TO USE YOUR 2018 MONTHLY LUNCHEON COUPONS.
X-ALT-DESC;FMTTYPE=text/html:<p style="margin-top: 10px\; margin-bottom: 10px\; padding: 0px 10px\; font-size: 0.9em\; line-height: 1.5\; font-family: verdana\, arial\, sans-serif\, helvetica\; background-color: rgb(255\, 255\, 255)\;">Please join us for our final luncheon for 2018\, featuring a live band playing a mix of popular and holiday season jazz music. Bring your colleagues\, secretary\, staff and other friends for a fun lunch and holiday festivities. Don&#39\;t miss the lucky draw of festive gifts.</p>\n\n<p style="margin-top: 10px\; margin-bottom: 10px\; padding: 0px 10px\; font-size: 0.9em\; line-height: 1.5\; font-family: verdana\, arial\, sans-serif\, helvetica\; background-color: rgb(255\, 255\, 255)\;">Note that bookings for 10 persons will have a reserved table.<br />\n<br />\n<strong>Menu</strong><br />\nCreamed pumpkin soup<br />\nMilk foam<br />\nVirgin olive oil<br />\nPannini crouton<br />\n<br />\n***</p>\n\n<p style="margin-top: 10px\; margin-bottom: 10px\; padding: 0px 10px\; font-size: 0.9em\; line-height: 1.5\; font-family: verdana\, arial\, sans-serif\, helvetica\; background-color: rgb(255\, 255\, 255)\;">Honey glazed Virginian-ham<br />\nRosemary jus<br />\nGratin potato<br />\nSaut&eacute\;ed Brussels sprouts<br />\nDressed carrots<br />\n<br />\n***<br />\nChristmas Log cake<br />\nVanilla ice cream<br />\nChocolate cigar<br />\nWhipped cream<br />\nMint leaf</p>\n\n<p style="margin-top: 10px\; margin-bottom: 10px\; padding: 0px 10px\; font-size: 0.9em\; line-height: 1.5\; font-family: verdana\, arial\, sans-serif\, helvetica\; background-color: rgb(255\, 255\, 255)\;">Vegetarian option available or if you are unable to eat pork please indicate in comments box when booking.<br />\n<br />\n<strong>LAST OPPORTUNITY TO USE YOUR 2018 MONTHLY LUNCHEON COUPONS.</strong></p>\n
LOCATION:Royal Orchid Sheraton Hotel Captain Bush Lane BTS Saphan Taksin\, hotel runs shuttle boat from Saphan Taksin pier
UID:e.3314.42
SEQUENCE:3
DTSTAMP:20260424T025820Z
URL:http://www.connect.amchamthailand.com/events/details/jazzy-festive-luncheon-42
END:VEVENT

END:VCALENDAR
