BEGIN:VCALENDAR
VERSION:2.0
PRODID:-//ChamberMaster//Event Calendar 2.0//EN
METHOD:PUBLISH
X-PUBLISHED-TTL:P3D
REFRESH-INTERVAL:P3D
CALSCALE:GREGORIAN
BEGIN:VEVENT
DTSTART:20220928T110000Z
DTEND:20220928T140000Z
X-MICROSOFT-CDO-ALLDAYEVENT:FALSE
SUMMARY:Joint AMCHAM/BCCT Marketing & Communications Committees: By Marketers for Marketers
DESCRIPTION:Please note that this event is hosted by BCCT and event requirements may differ from AMCHAM. Clicking the link will bring you to their registration page and away from the AMCHAM website.\n\nClick here to register\n\n\n\nBy Marketers for Marketers. Joint BCCT and AMCHAM Chamber networking event focused on Marketing\, Sales and Communications professionals. Welcome back to live events and a great opportunity to meet peers in our profession. Join us on September 28th at the Lexicon creative space\, Wall Street Tower\, 25th floor\, Thanon Surawong. The evening will feature a networking hour with food and drinks followed by a lively round table with thought leaders covering agencies\, corporates\, and not for profits. There will then of course be more networking and eating and drinking.
X-ALT-DESC;FMTTYPE=text/html:<p>Please note that this event is hosted by BCCT&nbsp\;and event requirements may&nbsp\;differ from AMCHAM. Clicking the link will bring you to their registration page and away from the AMCHAM website.</p>\n\n<p><a href="https://members.bccthai.com/bcct/asp/eventdetail.asp?EventID=4027&amp\;SponsorID=-1"><span style="font-size:16px\;"><span style="font-family:arial\;"><strong><span style="color:#000080\;">Click here to register</span></strong></span></span></a><br />\n<br />\nBy Marketers for Marketers. Joint BCCT and AMCHAM Chamber networking event focused on Marketing\, Sales and Communications professionals.&nbsp\;Welcome back to live events and a great opportunity to meet peers in our profession.&nbsp\;Join us on September 28th at&nbsp\;the Lexicon creative space\, Wall Street Tower\, 25th floor\, Thanon Surawong.&nbsp\;The evening will feature a networking hour with food and drinks followed by a lively round table with thought leaders covering agencies\, corporates\, and not for profits. There will then of course be more networking and eating and drinking.</p>\n
LOCATION:Lexicon\, Wall Street Tower
UID:e.3314.2282
SEQUENCE:3
DTSTAMP:20260420T161443Z
URL:http://www.connect.amchamthailand.com/events/details/joint-amcham-bcct-marketing-communications-committees-by-marketers-for-marketers-2282
END:VEVENT

END:VCALENDAR
