BEGIN:VCALENDAR
VERSION:2.0
PRODID:-//ChamberMaster//Event Calendar 2.0//EN
METHOD:PUBLISH
X-PUBLISHED-TTL:P3D
REFRESH-INTERVAL:P3D
CALSCALE:GREGORIAN
BEGIN:VEVENT
DTSTART:20231010T110000Z
DTEND:20231010T130000Z
X-MICROSOFT-CDO-ALLDAYEVENT:FALSE
SUMMARY:Joint AMCHAM & BCCT Young Professionals Committees: AI and the Next Generation of Leaders
DESCRIPTION:"As an AI language model\, I am not able to lead humans yet."\n\n\n\nAMCHAM's Young Professionals Committee\, jointly with BCCT's Young Professionals\, cordially invite you to our upcoming event on "AI and the Next Generation of Leadership".\n\n\n\nPlease join us to hear the leaders of Microsoft and Meta in Thailand as they delve into the intricate relationship between AI and the evolving landscape of leadership that follows.\n\n\n\nGain a deeper understanding of how AI is shaping the next generation of leaders as well as its potential to help elevate decision-making and strategic thinking. Most important of all\, join us to learn how aspiring leaders should equip themselves for a future driven by AI. The subsequent question-an-answer session promises to generate insightful discussions and learning opportunities centered around the confluence of AI and leadership. \n\n\n\nThis is also a great opportunity to expand your network and forge valuable connections with a diverse group of professionals who share your passion for innovation and leadership. We look forward to seeing you!\n\n\n\nOur speakers:\n\n\n\nDhanawat Suthumpun is the Managing Director of Microsoft Thailand. With over 25 years of IT industry experience\, Dhanawat is excited to be part of the Microsoft family and drive the company mission to empower every person and every organization on the planet to achieve more. His key focus is to enable partners to leverage Microsoft's technologies to drive success in digital transformation and inspire exceptional innovations in Thailand. \n\n\n\nPrae Dumrongmongcolgul is Country Director of Meta Thailand. Prae joined Meta in June 2020 and has since served as the Country Director of Meta Thailand. Prae was previously the Managing Director and Partner at The Boston Consulting Group. Prae holds an M.B.A. degree from the Wharton School of the University of Pennsylvania and a bachelor's degree in Systems Engineering from the University of Virginia
X-ALT-DESC;FMTTYPE=text/html:&quot\;As an AI language model\, I am not able to lead humans yet.&quot\;<br />\n<br />\nAMCHAM&#39\;s Young Professionals Committee\, jointly with BCCT&#39\;s Young Professionals\, cordially invite you to our upcoming event on &quot\;AI and the Next Generation of Leadership&quot\;.<br />\n<br />\nPlease join us to hear the leaders of Microsoft and Meta in Thailand as they&nbsp\;delve into the intricate relationship between AI and the evolving landscape of leadership that follows.<br />\n<br />\nGain a deeper understanding of how AI is shaping the next generation of leaders as well as its potential to help elevate decision-making and strategic thinking. Most important of all\, join us to learn how aspiring leaders should equip themselves for a future driven by AI. The subsequent question-an-answer session promises to generate insightful discussions and learning opportunities centered around the confluence of AI and leadership.&nbsp\;<br />\n<br />\nThis is also a great opportunity to expand your network and forge valuable connections with a diverse group of professionals who share your passion for innovation and leadership. We look forward to seeing you!<br />\n<br />\n<strong>Our speakers:</strong><br />\n<br />\n<a href="https://www.linkedin.com/in/dhanawat-suthumpun/"><strong>Dhanawat Suthumpun</strong></a> is the Managing Director of Microsoft Thailand. With over 25 years of IT industry experience\, Dhanawat is excited to be part of the Microsoft family and drive the company mission to empower every person and every organization on the planet to achieve more. His key focus is to enable partners to leverage Microsoft&#39\;s technologies to drive success in digital transformation and inspire exceptional innovations in Thailand.&nbsp\;<br />\n<br />\n<a href="https://www.linkedin.com/in/prae-dumrongmongcolgul-734b8a1/"><strong>Prae Dumrongmongcolgul</strong></a> is Country Director of Meta Thailand. Prae joined Meta in June 2020 and has since served as the Country Director of Meta Thailand. Prae was previously the Managing Director and Partner at The Boston Consulting Group. Prae holds an M.B.A. degree from the Wharton School of the University of Pennsylvania and a bachelor&#39\;s degree in Systems Engineering from the University of Virginia
LOCATION:Hotel Indigo Bangkok Wireless Road\, Metro On Wireless Restaurant\, 2nd Floor BTS Phloen Chit (Exit 4)
UID:e.3314.2618
SEQUENCE:3
DTSTAMP:20260419T183243Z
URL:http://www.connect.amchamthailand.com/events/details/joint-amcham-bcct-young-professionals-committees-ai-and-the-next-generation-of-leaders-2618
END:VEVENT

END:VCALENDAR
